BEGIN:VCALENDAR
VERSION:2.0
PRODID:-//de Bollenstreek - ECPv6.15.18//NONSGML v1.0//EN
CALSCALE:GREGORIAN
METHOD:PUBLISH
X-WR-CALNAME:de Bollenstreek
X-ORIGINAL-URL:https://debollenstreek.com
X-WR-CALDESC:Events for de Bollenstreek
REFRESH-INTERVAL;VALUE=DURATION:PT1H
X-Robots-Tag:noindex
X-PUBLISHED-TTL:PT1H
BEGIN:VTIMEZONE
TZID:Europe/Amsterdam
BEGIN:DAYLIGHT
TZOFFSETFROM:+0100
TZOFFSETTO:+0200
TZNAME:CEST
DTSTART:20240331T010000
END:DAYLIGHT
BEGIN:STANDARD
TZOFFSETFROM:+0200
TZOFFSETTO:+0100
TZNAME:CET
DTSTART:20241027T010000
END:STANDARD
BEGIN:DAYLIGHT
TZOFFSETFROM:+0100
TZOFFSETTO:+0200
TZNAME:CEST
DTSTART:20250330T010000
END:DAYLIGHT
BEGIN:STANDARD
TZOFFSETFROM:+0200
TZOFFSETTO:+0100
TZNAME:CET
DTSTART:20251026T010000
END:STANDARD
BEGIN:DAYLIGHT
TZOFFSETFROM:+0100
TZOFFSETTO:+0200
TZNAME:CEST
DTSTART:20260329T010000
END:DAYLIGHT
BEGIN:STANDARD
TZOFFSETFROM:+0200
TZOFFSETTO:+0100
TZNAME:CET
DTSTART:20261025T010000
END:STANDARD
BEGIN:DAYLIGHT
TZOFFSETFROM:+0100
TZOFFSETTO:+0200
TZNAME:CEST
DTSTART:20270328T010000
END:DAYLIGHT
BEGIN:STANDARD
TZOFFSETFROM:+0200
TZOFFSETTO:+0100
TZNAME:CET
DTSTART:20271031T010000
END:STANDARD
BEGIN:DAYLIGHT
TZOFFSETFROM:+0100
TZOFFSETTO:+0200
TZNAME:CEST
DTSTART:20280326T010000
END:DAYLIGHT
BEGIN:STANDARD
TZOFFSETFROM:+0200
TZOFFSETTO:+0100
TZNAME:CET
DTSTART:20281029T010000
END:STANDARD
END:VTIMEZONE
BEGIN:VEVENT
DTSTART;TZID=Europe/Amsterdam:20250101T100000
DTEND;TZID=Europe/Amsterdam:20270101T170000
DTSTAMP:20260423T013451
CREATED:20250824T110438Z
LAST-MODIFIED:20250824T220901Z
UID:4606-1735725600-1798822800@debollenstreek.com
SUMMARY:Expeditie Space Expo Noordwijk
DESCRIPTION:Expeditie Space Expo Noordwijk: An interactive mission for children aged 5 to 12.
URL:https://debollenstreek.com/event/expeditie-space-expo-noordwijk/
CATEGORIES:Events
END:VEVENT
BEGIN:VEVENT
DTSTART;TZID=Europe/Amsterdam:20260101T100000
DTEND;TZID=Europe/Amsterdam:20270101T170000
DTSTAMP:20260423T013451
CREATED:20250824T110458Z
LAST-MODIFIED:20250824T110518Z
UID:4616-1767261600-1798822800@debollenstreek.com
SUMMARY:Ontdek de ERA-Arm bij Space Expo - tentoonstelling
DESCRIPTION:Ontdek de ERA-Arm bij Space Expo – tentoonstelling: Space Expo’s latest exhibition on the European Robotic Arm (ERA) opens in January 2025!
URL:https://debollenstreek.com/event/ontdek-de-era-arm-bij-space-expo-tentoonstelling/
CATEGORIES:Events
END:VEVENT
BEGIN:VEVENT
DTSTART;TZID=Europe/Amsterdam:20260423T201500
DTEND;TZID=Europe/Amsterdam:20260423T234500
DTSTAMP:20260423T013451
CREATED:20250824T120708Z
LAST-MODIFIED:20250824T120748Z
UID:5098-1776975300-1776987900@debollenstreek.com
SUMMARY:Peter van Rooijen - Doei buitenwereld! (try-out) - Peter gaat solo op pad met nieuwe nummers
DESCRIPTION:Peter van Rooijen – Doei buitenwereld! (try-out) – Peter gaat solo op pad met nieuwe nummers: Peter goes solo with new songs In recent years\, Peter van Rooijen caused a furore with his Love\, Death & Trilogy\, which he concluded with a Best of programme. Now he returns\, again with great songs\, but he will try out without a band. He goes out solo with all the instruments he can (more or less) play. In the run-up to his sixth full-length show Doei buitenwereld\, Van Rooijen will start a series of try-outs in which he will try out and develop new songs and new forms. In Doei buitenwereld! Van Rooijen argues that many people think all kinds of things about all kinds of things (the climate\, politicians\, racial issues\, supermarket workers\, etc.) but that they don’t actually understand what they think. In fact\, we ourselves are often too stupid to understand what we feel and where those feelings come from. Stop pointing the finger at the other person\, anyone can do that. It is time for a deep dive inside! Navel-gazing for experts. As deep as can be. We will find more ugly and more beautiful there than we expect. Peter sets a good example and descends all the way inside himself.
URL:https://debollenstreek.com/event/peter-van-rooijen-doei-buitenwereld-try-out-peter-gaat-solo-op-pad-met-nieuwe-nummers/
CATEGORIES:Events
END:VEVENT
END:VCALENDAR