BEGIN:VCALENDAR
VERSION:2.0
PRODID:-//de Bollenstreek - ECPv6.15.18//NONSGML v1.0//EN
CALSCALE:GREGORIAN
METHOD:PUBLISH
X-ORIGINAL-URL:https://debollenstreek.com
X-WR-CALDESC:Events for de Bollenstreek
REFRESH-INTERVAL;VALUE=DURATION:PT1H
X-Robots-Tag:noindex
X-PUBLISHED-TTL:PT1H
BEGIN:VTIMEZONE
TZID:Europe/Amsterdam
BEGIN:DAYLIGHT
TZOFFSETFROM:+0100
TZOFFSETTO:+0200
TZNAME:CEST
DTSTART:20230326T010000
END:DAYLIGHT
BEGIN:STANDARD
TZOFFSETFROM:+0200
TZOFFSETTO:+0100
TZNAME:CET
DTSTART:20231029T010000
END:STANDARD
BEGIN:DAYLIGHT
TZOFFSETFROM:+0100
TZOFFSETTO:+0200
TZNAME:CEST
DTSTART:20240331T010000
END:DAYLIGHT
BEGIN:STANDARD
TZOFFSETFROM:+0200
TZOFFSETTO:+0100
TZNAME:CET
DTSTART:20241027T010000
END:STANDARD
BEGIN:DAYLIGHT
TZOFFSETFROM:+0100
TZOFFSETTO:+0200
TZNAME:CEST
DTSTART:20250330T010000
END:DAYLIGHT
BEGIN:STANDARD
TZOFFSETFROM:+0200
TZOFFSETTO:+0100
TZNAME:CET
DTSTART:20251026T010000
END:STANDARD
END:VTIMEZONE
BEGIN:VEVENT
DTSTART;VALUE=DATE:20240907
DTEND;VALUE=DATE:20240917
DTSTAMP:20260423T033854
CREATED:20240804T221540Z
LAST-MODIFIED:20240915T193727Z
UID:766-1725674400-1726451999@debollenstreek.com
SUMMARY:Festival Week in Hillegom 2024
DESCRIPTION:From September 7 to 15\, 2024\, the town of Hillegom comes alive with the Festival Week\, organized by the Harddraverijvereniging Hillegom. This week-long celebration features a variety of activities for all ages\, making it one of the most anticipated events of the year. \nFestival Week in Hillegom 2024: Exciting Activities and Events\nThe exciting and vibrant festival week begins with an extensive series of fun-filled events and engaging activities designed for all ages. Among the numerous highlights are the following key attractions and special events: \n\nKermis (Funfair): Running from September 12-15\, the funfair offers rides\, games\, and treats for the whole family.\nKortebaan Horse Racing: On September 13\, witness the thrilling horse races that are a central part of the festival. This event draws crowds eager to see which horse will come out on top.\nCultural Events: Throughout the week\, enjoy various cultural performances\, music\, and dance\, showcasing the vibrant local culture of Hillegom.\n\nCommunity and Connection\nThis special week is not just about entertainment; it’s a community event that brings people together. Meet new friends\, connect with neighbors\, and experience the welcoming spirit of Hillegom. The festival provides an excellent opportunity for both locals and visitors to engage with the community. \nHarddraverij Festival Week is Family-Friendly Fun\nWith a wide range of activities\, the festival is perfect for families. Children can enjoy the funfair\, participate in games\, and enjoy the festive atmosphere. Adults can relax with a drink\, enjoy live music\, and watch the exciting horse races. \nPlan Your Visit\nDon’t miss this vibrant celebration in Hillegom. The Harddraverij Festival Week promises a week filled with excitement\, community\, and fun for all ages. \nFestival Week in Hillegom 2024 Event Details:\n\nDate: September 7-15\, 2024\nTime: Various times (see event schedule)\nLocation: Various locations in Hillegom\nCost: Free entry (some activities may have a fee)\n\n  \n\nThe Najaarsfeesten in Hillegom 2024 is one of the most anticipated events of the year. Whether you’re preparing for the festivities or already enjoying them\, the Hillegom Najaarsfeesten Kickoff sets the perfect tone. Be sure to check our Agenda for all event details and timings. \nKick off Feestweek Lisse with excitement and discover more thrilling events happening all week long right here! \nFor even more ways to explore the region\, dive into our Comprehensive Guide to Bollenstreek. Discover fun Activitiesand essential Information to make the most of your visit. \nDon’t forget to stop by Souvenir Shop Holland for unique gifts. For official travel updates\, visit the Dutch Government website.
URL:https://debollenstreek.com/event/festival-week-in-hillegom/
LOCATION:Kermis Hillegom\, Jonkheer Mockkade\, Hillegom\, 2181JH
CATEGORIES:Culture,Event,Fair,Family-Fun,Festival,Games,Hillegom,Kermis,Music,Night,Parades,Party
ATTACH;FMTTYPE=image/webp:https://debollenstreek.com/wp-content/uploads/2024/08/DALL·E-2024-08-05-01.58.50-A-scene-for-the-Harddraverij-Festival-Week-in-Hillegom-event-depicting-various-festival-activities-such-as-horse-racing-funfair-rides-and-live-pe.webp
ORGANIZER;CN="Harddraverij Vereniging Hillegom":MAILTO:info@harddraverijvereniginghillegom.nl
END:VEVENT
BEGIN:VEVENT
DTSTART;TZID=Europe/Amsterdam:20240907T100000
DTEND;TZID=Europe/Amsterdam:20240907T150000
DTSTAMP:20260423T033854
CREATED:20240905T000943Z
LAST-MODIFIED:20241227T234507Z
UID:1144-1725703200-1725721200@debollenstreek.com
SUMMARY:Padelclinic Hillegom Najaarsfeesten 2024
DESCRIPTION:Are you 16 or older and eager to learn more about padel? Then the Padelclinic Hillegom Najaarsfeesten 2024 is the perfect opportunity for you! Hosted by HTC Hillegom in collaboration with Ilona de Groot\, this clinic will introduce participants to the fun and fast-paced sport of padel. Whether you’re a complete beginner or looking to improve your skills\, this event promises a fun and engaging experience for everyone. Make sure to register early\, as spots are limited! \n\nEvent Details for Padelclinic Hillegom Najaarsfeesten 2024\n\nDate: Saturday\, 7 September 2024\nTime: The padel clinic starts at 10:00 AM and will run for approximately 90 minutes.\nLocation: HTC Hillegom will host the clinic at their padel courts\, located conveniently for both locals and visitors.\nActivities:\n\nIntroduction to Padel: Learn the basics of padel\, including racket handling\, positioning\, and basic techniques.\nSkill Development: Participants will have the chance to improve their skills through practice drills and games. Whether you’re new to padel or looking to refine your technique\, this clinic is a great opportunity.\nEquipment: If you have your own padel racket\, feel free to bring it. However\, don’t worry if you don’t own one—HTC Hillegom has rackets available for those who need to borrow one.\n\n\n\nNote: Registration is required in advance\, and spots are limited. Be sure to sign up on the official website as soon as possible\, as this popular clinic tends to fill up quickly. \n\nTips for Participating in Padelclinic Hillegom Najaarsfeesten 2024\n\nRegister Early: Since the clinic has limited spaces\, it’s important to sign up well in advance to secure your spot.\nBring Your Gear: If you own a padel racket\, bring it with you. Otherwise\, you can borrow one from the club.\nDress Comfortably: As padel is an active and fast-paced sport\, be sure to wear comfortable sportswear and proper shoes to ensure you can move freely on the court.\nStay Hydrated: Bring a water bottle to stay hydrated throughout the session\, especially if it’s a warm day.\nArrive On Time: Plan to arrive at HTC Hillegom a little early so you can warm up and meet other participants before the clinic starts.\n\n\nConclusion\nThe Padelclinic Hillegom Najaarsfeesten 2024 is a fantastic way to dive into the exciting sport of padel. With experienced coaches\, a welcoming environment\, and plenty of opportunities to practice\, this clinic promises a fun and educational experience for all participants. Don’t miss your chance to join the action on 7 September 2024 at HTC Hillegom—register now to ensure your spot! \n\nPadelclinic Hillegom Najaarsfeesten 2024 Details\n\nDate: Saturday\, 7 September 2024\nTime: 10:00 AM\nLocation: HTC Hillegom\nCost: Free (pre-registration required)\n\n\nThe Najaarsfeesten in Hillegom 2024 is one of the most anticipated events of the year. Whether you’re preparing for the festivities or already enjoying them\, the Hillegom Najaarsfeesten Kickoff sets the perfect tone. Be sure to check our Agenda for all event details and timings. \nFor even more ways to explore the region\, dive into our Comprehensive Guide to Bollenstreek. Discover fun Activitiesand essential Information to make the most of your visit. \nDon’t forget to stop by Souvenir Shop Holland for unique gifts. For official travel updates\, visit the Dutch Government website.
URL:https://debollenstreek.com/event/padelclinic-hillegom-najaarsfeesten-2024/
LOCATION:HTC Hillegom\, Stationsweg 29\, Hillegom\, 2182 BA\, Netherlands
CATEGORIES:Event,Exhibition,Family-Fun,Festival,Hillegom,Kermis,Najaarsfeesten 2024,Sport
ATTACH;FMTTYPE=image/jpeg:https://debollenstreek.com/wp-content/uploads/2024/09/Padelclinic-Hillegom-Najaarsfeesten-2024-deBollenstreek.jpg
ORGANIZER;CN="Najaarsfeesten Hillegom 2024":MAILTO:info@harddraverijvereniginghillegom.nl
END:VEVENT
BEGIN:VEVENT
DTSTART;TZID=Europe/Amsterdam:20240907T113000
DTEND;TZID=Europe/Amsterdam:20240907T113000
DTSTAMP:20260423T033854
CREATED:20240903T215506Z
LAST-MODIFIED:20241227T234507Z
UID:1042-1725708600-1725708600@debollenstreek.com
SUMMARY:(Kick)boks Clinic Hillegom Najaarsfeesten 2024
DESCRIPTION:Introduction to (Kick)boks Clinic Hillegom Najaarsfeesten 2024\nThe (Kick)boks Clinic Hillegom Najaarsfeesten 2024 at this year’s Najaarsfeesten is a great opportunity for youth to learn kickboxing from expert trainer Danny Denekamp. Taking place on 7 September 2024\, this event promises both fun and fitness. Plus\, each participant will leave with a surprise gift. Sign up now to secure your spot! \n\nDiscover the Exciting Kickboks Clinic\nKickboxing is a dynamic sport that boosts fitness and focus. At the Kickboks Clinic\, young participants will benefit from hands-on training with Danny Denekamp. It’s a fantastic way to get active during the festival and learn valuable new skills in a supportive environment. \n\nFamily-Friendly Fun at Hillegom Najaarsfeesten\nFamilies will love the friendly atmosphere at the Kickboks Clinic. This event is open to youth of all experience levels\, making it perfect for first-time kickboxers or those looking to improve their technique. The clinic is part of the larger Hillegom Najaarsfeesten\, which means there’s plenty for everyone to enjoy. \n\nEvent Highlights (Kick)boks Clinic Hillegom Najaarsfeesten 2024\n\nProfessional Coaching: Learn from kickboxing expert Danny Denekamp.\nYouth-Focused: Designed for kids and teens\, this clinic is fun and engaging.\nSurprise Gift: Every participant will receive a special gift.\nFree Event: Participation is free\, but registration is required in advance.\nCommunity Engagement: Connect with others in a fun\, active environment.\n\n\nTips for Enjoying the (Kick)boks Clinic Hillegom Najaarsfeesten 2024\n\nArrive Early: Check-in begins 15 minutes before the start time.\nDress Comfortably: Athletic wear and proper shoes are a must.\nBring Water: Stay hydrated during the session.\n\n\nConclusion\nDon’t miss the chance to join the Kickboks Clinic at Hillegom Najaarsfeesten 2024! It’s a fun and free event for young kickboxing enthusiasts\, with professional coaching and a surprise gift for every participant. Register today and get ready for a great day of learning and fun! \n  \n\nThe Najaarsfeesten in Hillegom 2024 is one of the most anticipated events of the year. Whether you’re preparing for the festivities or already enjoying them\, the Hillegom Najaarsfeesten Kickoff sets the perfect tone. Be sure to check our Agenda for all event details and timings. \nFor even more ways to explore the region\, dive into our Comprehensive Guide to Bollenstreek. Discover fun Activitiesand essential Information to make the most of your visit. \nDon’t forget to stop by Souvenir Shop Holland for unique gifts. For official travel updates\, visit the Dutch Government website.
URL:https://debollenstreek.com/event/kickboks-clinic-at-hillegom-najaarsfeesten-2024/
LOCATION:Train 2 Inspire\, Hillegom\, Henri Dunantplein 20\, Hillegom\, 2181 EM\, Netherlands
CATEGORIES:Culture,Event,Fair,Family-Fun,Hillegom,Kermis,Najaarsfeesten 2024,Outdoor,Sport
ATTACH;FMTTYPE=image/jpeg:https://debollenstreek.com/wp-content/uploads/2024/09/Kickboks-Clinic-Hillegom-Najaarsfeesten-debollenstreek-2024.jpg
ORGANIZER;CN="Najaarsfeesten Hillegom 2024":MAILTO:info@harddraverijvereniginghillegom.nl
END:VEVENT
BEGIN:VEVENT
DTSTART;TZID=Europe/Amsterdam:20240907T120000
DTEND;TZID=Europe/Amsterdam:20240907T130000
DTSTAMP:20260423T033854
CREATED:20240904T130840Z
LAST-MODIFIED:20241227T234506Z
UID:1062-1725710400-1725714000@debollenstreek.com
SUMMARY:Pony Rijden Hillegom Najaarsfeesten 2024
DESCRIPTION:Looking for a fun-filled day for your little ones? Join us at the Creatief en Pony Rijden Hillegom Najaarsfeesten 2024\, a highlight of this year’s festival! On 7 September 2024\, children can enjoy creative activities like pottery painting\, clay modeling\, and flower arranging in the scenic Hoftuin. For those more inclined to outdoor fun\, pony rides provided by Manege Hillegom are the perfect way to explore the garden. The best part? It’s completely free for children aged 14 and under! \n\nWhat to Expect at Creatief en Pony Rijden Hillegom 2024\nChildren will have the chance to explore their artistic side by creating beautiful works of art. There will be several craft stations where they can engage in activities such as: \n\nClay Modeling: Let your kids’ imaginations run wild as they shape their own masterpieces out of clay.\nPottery Painting: Kids can bring plain pots to life with vibrant colors and patterns.\nFlower Arranging: For nature lovers\, this is a fun way to create beautiful bouquets.\n\nOnce the crafting is done\, children can take home their creations as souvenirs of the day. \nFor those who prefer some outdoor excitement\, the Pony Rides will be available. The adorable ponies from Manege Hillegom will be on hand to give the kids a memorable ride around the Hoftuin. \n\nTips for Enjoying Creatief en Pony Rijden Hillegom\n\nArrive on Time: Craft activities and pony rides start at 12:00 PM\, so make sure to arrive early to grab the best spots at the craft tables and to ensure your child gets a pony ride.\nDress Comfortably: Since there will be both crafting and pony riding\, it’s best to dress children in casual\, comfortable clothing that can handle a bit of paint or dirt.\nBring a Camera: The Hoftuin offers plenty of scenic spots\, making it the perfect place to capture your children’s creative masterpieces or their smiling faces as they ride a pony.\nStay Hydrated: The day can be filled with fun and excitement\, so make sure your children have water bottles handy.\nSupervision: While participation is free\, parents or guardians should remain nearby to supervise younger children.\n\n\nConclusion\nThe Creatief en Pony Rijden Hillegom Najaarsfeesten 2024 promises to be a delightful experience for kids of all ages. From hands-on crafting to pony rides\, this event offers the perfect mix of creativity and outdoor fun. Don’t miss out on this opportunity to create lasting memories at the Hillegom Najaarsfeesten. Whether your child loves arts and crafts or enjoys spending time with animals\, there’s something for everyone at this fantastic event. Mark your calendars for 7 September 2024 and be ready for a day of family-friendly fun! \n  \n\nThe Najaarsfeesten in Hillegom 2024 is one of the most anticipated events of the year. Whether you’re preparing for the festivities or already enjoying them\, the Hillegom Najaarsfeesten Kickoff sets the perfect tone. Be sure to check our Agenda for all event details and timings. \nFor even more ways to explore the region\, dive into our Comprehensive Guide to Bollenstreek. Discover fun Activitiesand essential Information to make the most of your visit. \nDon’t forget to stop by Souvenir Shop Holland for unique gifts. For official travel updates\, visit the Dutch Government website.
URL:https://debollenstreek.com/event/pony-rijden-hillegom-najaarsfeesten-2024/
LOCATION:Hoftuin Hillegom\, Hoofdstraat\, Hillegom\, Netherlands
CATEGORIES:Culture,Event,Family-Fun,Festival,Hillegom,Kermis,Najaarsfeesten 2024,Outdoor,Party,Sport
ATTACH;FMTTYPE=image/jpeg:https://debollenstreek.com/wp-content/uploads/2024/09/Pony-Rijden-Hillegom-Najaarsfeesten-2024-deBollenstreek.jpg
ORGANIZER;CN="Najaarsfeesten Hillegom 2024":MAILTO:info@harddraverijvereniginghillegom.nl
END:VEVENT
BEGIN:VEVENT
DTSTART;TZID=Europe/Amsterdam:20240907T130000
DTEND;TZID=Europe/Amsterdam:20240907T160000
DTSTAMP:20260423T033854
CREATED:20240904T132422Z
LAST-MODIFIED:20241227T234506Z
UID:1068-1725714000-1725724800@debollenstreek.com
SUMMARY:Kaartjesregen Hillegom Najaarsfeesten 2024
DESCRIPTION:Introduction to Kaartjesregen Hillegom Najaarsfeesten 2024\nLooking for a fun-filled afternoon at Kaartjesregen Hillegom Najaarsfeesten 2024? It’s here\, you can participate in exciting games on 7 September 2024 at the beautiful Hoftuin. As you play\, you will have the chance to win free kermis tickets. Plus\, it’s a completely free event\, so everyone can enjoy the activities. Make sure to arrive early to maximize your ticket wins! \n\nFun Activities at Kaartjesregen Hillegom Najaarsfeesten 2024\nAt this year’s Kaartjesregen\, there will be plenty of games for kids and families alike. Firstly\, test your skills at the many fun stations set up around the Hoftuin. Additionally\, every game you win earns you free tickets to use at the kermis. Whether you’re a fan of traditional carnival games like the ring toss or prefer more active challenges like the sack race\, there is something for everyone. Most importantly\, the more games you play\, the more chances you have to win! \n\nTips for Enjoying Kaartjesregen Hillegom\nTo get the most out of the Kaartjesregen\, we suggest the following: \n\nArrive Early: Arriving right at 1:00 PM gives you the best chance to play as many games as possible.\nWear Comfortable Shoes: Since the event is outdoors with lots of activities\, comfortable footwear is a must.\nBring Water: It’s always smart to stay hydrated\, especially if the weather is warm.\nSupervise Younger Kids: While participation is free\, it’s helpful for parents to supervise their children during the games.\nEnjoy the Festivities: Beyond the games\, the lively atmosphere of the Najaarsfeesten will keep everyone entertained.\n\n\nConclusion\nThe Kaartjesregen & Spelletjes at Hillegom Najaarsfeesten 2024 is the perfect opportunity for families to enjoy a fun day outdoors. Whether you’re playing games for free kermis tickets or just enjoying the festive spirit\, this event promises excitement for everyone. Don’t forget to join us on 7 September 2024 and experience the joy of winning free prizes in the heart of Hillegom. Bring your family\, and let’s make this year’s festival unforgettable! \n\nKaartjesregen Hillegom Najaarsfeesten 2024 Details\n\nDate: Saturday\, 7 September 2024\nTime: 1:00 PM\nLocation: Hoftuin\, Hillegom\nCost: Free\n\n  \n\nThe Najaarsfeesten in Hillegom 2024 is one of the most anticipated events of the year. Whether you’re preparing for the festivities or already enjoying them\, the Hillegom Najaarsfeesten Kickoff sets the perfect tone. Be sure to check our Agenda for all event details and timings. \nFor even more ways to explore the region\, dive into our Comprehensive Guide to Bollenstreek. Discover fun Activitiesand essential Information to make the most of your visit. \nDon’t forget to stop by Souvenir Shop Holland for unique gifts. For official travel updates\, visit the Dutch Government website.
URL:https://debollenstreek.com/event/kaartjesregen-hillegom-najaarsfeesten-2024/
LOCATION:Hoftuin Hillegom\, Hoofdstraat\, Hillegom\, Netherlands
CATEGORIES:Culture,Event,Fair,Family-Fun,Festival,Games,History,Kermis,Najaarsfeesten 2024,Outdoor,Party
ATTACH;FMTTYPE=image/jpeg:https://debollenstreek.com/wp-content/uploads/2024/09/Kaartjesregen-Hillegom-Najaarsfeesten-2024-deBollenstreek.jpg
ORGANIZER;CN="Najaarsfeesten Hillegom 2024":MAILTO:info@harddraverijvereniginghillegom.nl
END:VEVENT
BEGIN:VEVENT
DTSTART;TZID=Europe/Amsterdam:20240907T153000
DTEND;TZID=Europe/Amsterdam:20240907T180000
DTSTAMP:20260423T033854
CREATED:20240904T134034Z
LAST-MODIFIED:20241227T234505Z
UID:1072-1725723000-1725732000@debollenstreek.com
SUMMARY:Boerengolf Hillegom Najaarsfeesten 2024
DESCRIPTION:Introduction to Boerengolf Hillegom Najaarsfeesten 2024\nAre you ready for a fun family activity at Boerengolf Hillegom Najaarsfeesten 2024? Join us on 7 September 2024 at Elsbroekerwei! This exciting twist on traditional golf is played on a farm\, where players use a club made from a wooden stick with a wooden shoe attached. It’s a game that’s both challenging and fun\, perfect for all ages. Additionally\, players get to navigate obstacles such as cows\, hay bales\, and farm carts\, making it a truly unique experience! \n\nEvent Details for Boerengolf Hillegom Najaarsfeesten 2024\n\nDate: Saturday\, 7 September 2024\nTime: 3:30 PM\nLocation: Elsbroekerwei\, Leidsestraat 189\nActivities:\n\nBoerengolf: A playful variant of regular golf\, Boerengolf is set in the fields surrounding the Zeestratenfarm.\nCourse: The 9-hole course stretches across 50 to 150 meters\, where teams of 2 or 3 will compete.\nObstacles: Expect to encounter fun obstacles like cows\, straw bales\, and farm carts!\nTeamwork: The game is suitable for everyone\, whether you’re a beginner or more advanced. You’ll be divided into different groups to ensure the competition is both fair and exciting.\nPrizes and Fun: Not only will you enjoy a great day\, but you’ll also have the chance to meet fellow participants and enjoy the festival atmosphere.\n\n\n\n\nTips for Enjoying Boerengolf\n\nArrive Early: Make sure to arrive before 3:30 PM to secure your spot. This popular event fills up quickly.\nDress Comfortably: Wear clothes and shoes that can handle a little mud and grass\, as you’ll be walking through fields.\nBring Friends or Family: Boerengolf is a team game\, and it’s more fun when you play with friends or family members.\nStay Hydrated: Don’t forget to bring water\, as you’ll be moving around a lot.\nRegister in Advance: Be sure to sign up on the official website\, as spaces are limited. Remember\, vol = vol!\n\n\nConclusion\nDon’t miss out on Boerengolf Hillegom Najaarsfeesten 2024! It’s the perfect way to spend a Saturday afternoon with family and friends. Whether you’re trying your hand at Boerengolf for the first time or returning to improve your skills\, this event guarantees plenty of fun and laughter. So\, mark your calendars for 7 September 2024\, and get ready for a day full of excitement at Elsbroekerwei! \n\nBoerengolf Hillegom Najaarsfeesten 2024 Details\n\nDate: Saturday\, 7 September 2024\nTime: 3:30 PM\nLocation: Elsbroekerwei\, Leidsestraat 189\nCost: Free (pre-registration required)\n\n  \n\nThe Najaarsfeesten in Hillegom 2024 is one of the most anticipated events of the year. Whether you’re preparing for the festivities or already enjoying them\, the Hillegom Najaarsfeesten Kickoff sets the perfect tone. Be sure to check our Agenda for all event details and timings. \nFor even more ways to explore the region\, dive into our Comprehensive Guide to Bollenstreek. Discover fun Activitiesand essential Information to make the most of your visit. \nDon’t forget to stop by Souvenir Shop Holland for unique gifts. For official travel updates\, visit the Dutch Government website.
URL:https://debollenstreek.com/event/boerengolf-hillegom-najaarsfeesten-2024/
LOCATION:Elsbroekerwei\, Leidsestraat 189\, Hillegom\, 2182DM
CATEGORIES:Culture,Event,Fair,Family-Fun,Festival,Flowers,Games,Hillegom,History,Kermis,Najaarsfeesten 2024,Outdoor,Sport
ATTACH;FMTTYPE=image/jpeg:https://debollenstreek.com/wp-content/uploads/2024/09/Boerengolf-Hillegom-Najaarsfeesten-2024-deBollenstreek.jpg
ORGANIZER;CN="Najaarsfeesten Hillegom 2024":MAILTO:info@harddraverijvereniginghillegom.nl
END:VEVENT
END:VCALENDAR