BEGIN:VCALENDAR
VERSION:2.0
PRODID:-//de Bollenstreek - ECPv6.15.18//NONSGML v1.0//EN
CALSCALE:GREGORIAN
METHOD:PUBLISH
X-WR-CALNAME:de Bollenstreek
X-ORIGINAL-URL:https://debollenstreek.com
X-WR-CALDESC:Events for de Bollenstreek
REFRESH-INTERVAL;VALUE=DURATION:PT1H
X-Robots-Tag:noindex
X-PUBLISHED-TTL:PT1H
BEGIN:VTIMEZONE
TZID:Europe/Amsterdam
BEGIN:DAYLIGHT
TZOFFSETFROM:+0100
TZOFFSETTO:+0200
TZNAME:CEST
DTSTART:20230326T010000
END:DAYLIGHT
BEGIN:STANDARD
TZOFFSETFROM:+0200
TZOFFSETTO:+0100
TZNAME:CET
DTSTART:20231029T010000
END:STANDARD
BEGIN:DAYLIGHT
TZOFFSETFROM:+0100
TZOFFSETTO:+0200
TZNAME:CEST
DTSTART:20240331T010000
END:DAYLIGHT
BEGIN:STANDARD
TZOFFSETFROM:+0200
TZOFFSETTO:+0100
TZNAME:CET
DTSTART:20241027T010000
END:STANDARD
BEGIN:DAYLIGHT
TZOFFSETFROM:+0100
TZOFFSETTO:+0200
TZNAME:CEST
DTSTART:20250330T010000
END:DAYLIGHT
BEGIN:STANDARD
TZOFFSETFROM:+0200
TZOFFSETTO:+0100
TZNAME:CET
DTSTART:20251026T010000
END:STANDARD
END:VTIMEZONE
BEGIN:VEVENT
DTSTART;VALUE=DATE:20240907
DTEND;VALUE=DATE:20240917
DTSTAMP:20260422T095055
CREATED:20240804T221540Z
LAST-MODIFIED:20240915T193727Z
UID:766-1725674400-1726451999@debollenstreek.com
SUMMARY:Festival Week in Hillegom 2024
DESCRIPTION:From September 7 to 15\, 2024\, the town of Hillegom comes alive with the Festival Week\, organized by the Harddraverijvereniging Hillegom. This week-long celebration features a variety of activities for all ages\, making it one of the most anticipated events of the year. \nFestival Week in Hillegom 2024: Exciting Activities and Events\nThe exciting and vibrant festival week begins with an extensive series of fun-filled events and engaging activities designed for all ages. Among the numerous highlights are the following key attractions and special events: \n\nKermis (Funfair): Running from September 12-15\, the funfair offers rides\, games\, and treats for the whole family.\nKortebaan Horse Racing: On September 13\, witness the thrilling horse races that are a central part of the festival. This event draws crowds eager to see which horse will come out on top.\nCultural Events: Throughout the week\, enjoy various cultural performances\, music\, and dance\, showcasing the vibrant local culture of Hillegom.\n\nCommunity and Connection\nThis special week is not just about entertainment; it’s a community event that brings people together. Meet new friends\, connect with neighbors\, and experience the welcoming spirit of Hillegom. The festival provides an excellent opportunity for both locals and visitors to engage with the community. \nHarddraverij Festival Week is Family-Friendly Fun\nWith a wide range of activities\, the festival is perfect for families. Children can enjoy the funfair\, participate in games\, and enjoy the festive atmosphere. Adults can relax with a drink\, enjoy live music\, and watch the exciting horse races. \nPlan Your Visit\nDon’t miss this vibrant celebration in Hillegom. The Harddraverij Festival Week promises a week filled with excitement\, community\, and fun for all ages. \nFestival Week in Hillegom 2024 Event Details:\n\nDate: September 7-15\, 2024\nTime: Various times (see event schedule)\nLocation: Various locations in Hillegom\nCost: Free entry (some activities may have a fee)\n\n  \n\nThe Najaarsfeesten in Hillegom 2024 is one of the most anticipated events of the year. Whether you’re preparing for the festivities or already enjoying them\, the Hillegom Najaarsfeesten Kickoff sets the perfect tone. Be sure to check our Agenda for all event details and timings. \nKick off Feestweek Lisse with excitement and discover more thrilling events happening all week long right here! \nFor even more ways to explore the region\, dive into our Comprehensive Guide to Bollenstreek. Discover fun Activitiesand essential Information to make the most of your visit. \nDon’t forget to stop by Souvenir Shop Holland for unique gifts. For official travel updates\, visit the Dutch Government website.
URL:https://debollenstreek.com/event/festival-week-in-hillegom/
LOCATION:Kermis Hillegom\, Jonkheer Mockkade\, Hillegom\, 2181JH
CATEGORIES:Culture,Event,Fair,Family-Fun,Festival,Games,Hillegom,Kermis,Music,Night,Parades,Party
ATTACH;FMTTYPE=image/webp:https://debollenstreek.com/wp-content/uploads/2024/08/DALL·E-2024-08-05-01.58.50-A-scene-for-the-Harddraverij-Festival-Week-in-Hillegom-event-depicting-various-festival-activities-such-as-horse-racing-funfair-rides-and-live-pe.webp
ORGANIZER;CN="Harddraverij Vereniging Hillegom":MAILTO:info@harddraverijvereniginghillegom.nl
END:VEVENT
BEGIN:VEVENT
DTSTART;TZID=Europe/Amsterdam:20240908T080000
DTEND;TZID=Europe/Amsterdam:20240908T170000
DTSTAMP:20260422T095055
CREATED:20240908T134445Z
LAST-MODIFIED:20250828T145200Z
UID:1312-1725782400-1725814800@debollenstreek.com
SUMMARY:Kermis voor minder validen Hillegom Najaarsfeesten 2024
DESCRIPTION:  \nHighlights of the Kermis voor minder validen\n\nA Wide Range of Attractions: From classic rides like the Draaimolen (carousel) and the Teacups to thrilling experiences such as the Break Dance and the Polyp Power Wave\, the fair offers something for everyone. The goal is to ensure all participants\, regardless of ability\, can enjoy the excitement of the kermis.\nInclusive Atmosphere: The event is designed to ensure that individuals with disabilities feel comfortable and included. For one hour\, they will have exclusive access to the fair\, which provides a relaxed and safe space to enjoy the rides without large crowds.\nFun and Games: Beyond the rides\, the kermis includes games such as skee-ball\, eendensport (duck fishing)\, and the famous Kamelenrace (camel race). Participants can also indulge in classic fair food like suikerspin(cotton candy)\, popcorn\, and Vietnamese loempia’s (spring rolls).\n\n\nTips for Participation in Kermis voor minder validen Hillegom Najaarsfeesten 2024\n\nArrive Early: Since the exclusive access is only from 2:00 PM to 3:00 PM\, it’s best to arrive early to make the most of the attractions during this quieter time.\nAccessibility: The kermis ensures accessibility for all. Ramps and pathways make it easy to navigate for those using wheelchairs or mobility aids.\nEnjoy the Food Stalls: Be sure to check out the delicious food offerings\, including traditional Dutch treats like poffertjes (mini pancakes) and Hollandse gebakkraam (Dutch donuts).\nPlan Ahead: With so many exciting activities\, planning ahead will help maximize the experience. Whether you’re interested in gentle rides or action-packed attractions\, there’s something for everyone.\n\n\nConclusion\nThe Kermis voor minder validen Hillegom Najaarsfeesten 2024 is a heartwarming event that ensures everyone\, regardless of ability\, can enjoy the fun of a traditional kermis. From the wide variety of attractions to the inclusive and welcoming atmosphere\, this event will provide a memorable experience for all. Be sure to join the festivities on 12 September 2024\, and make the most of the exclusive hour of free access at Hillegom Kermis. \n\nDate: Thursday\, 12 September 2024\nTime: The exclusive hour for people with disabilities begins at 2:00 PM and ends at 3:00 PM. The general public can enter the fair from 3:00 PM to midnight.\nLocation: The event takes place at the Hillegom Kermis\, featuring various attractions for all ages and abilities.\nFree Entry: During the designated hour\, people with disabilities can access the kermis for free\, providing an inclusive environment where everyone can have fun.\n\n  \n\nDiscover an unforgettable family adventure at the Hillegom Najaarsfeesten. Start with Friday the 13th fun\, then explore thrilling events\, and finally enjoy a day full of excitement here! Be sure to check our Agenda for all event details and timings. For even more ways to explore the region\, dive into our Comprehensive Guide to Bollenstreek. Discover fun Activities and essential Information to make the most of your visit. Stop by Souvenir Shop Holland for unique gifts and best prices.
URL:https://debollenstreek.com/event/kermis-voor-minder-validen-hillegom-najaarsfeesten-2024/
LOCATION:Kermis Hillegom\, Jonkheer Mockkade\, Hillegom\, 2181JH
CATEGORIES:Culture,Event,Fair,Family-Fun,Festival,Hillegom,Kermis,Najaarsfeesten 2024,Outdoor
ATTACH;FMTTYPE=image/jpeg:https://debollenstreek.com/wp-content/uploads/2024/09/Kermis-voor-minder-validen-Hillegom-Najaarsfeesten-2024-deBollenstreek.jpg
ORGANIZER;CN="Najaarsfeesten Hillegom 2024":MAILTO:info@harddraverijvereniginghillegom.nl
END:VEVENT
BEGIN:VEVENT
DTSTART;TZID=Europe/Amsterdam:20240908T120000
DTEND;TZID=Europe/Amsterdam:20240908T150000
DTSTAMP:20260422T095055
CREATED:20240905T105724Z
LAST-MODIFIED:20250828T145351Z
UID:1150-1725796800-1725807600@debollenstreek.com
SUMMARY:Escooterrit Hillegom Najaarsfeesten 2024
DESCRIPTION:The Escooterrit Hillegom Najaarsfeesten 2024 is back and promises to be an exhilarating experience. After last year’s overwhelming success\, this event offers the perfect opportunity to explore the beauty of the Bollenstreek region on an e-scooter. The event provides participants with a scenic and fun way to discover the area\, combining adventure with relaxation. Whether you’re a seasoned rider or a newcomer\, this ride is sure to impress! \nEscooterrit Hillegom Najaarsfeesten 2024 Event Details:\nRoute\, Time\, and Meeting Point\nThe Escooterrit kicks off at 12:00 PM on September 8\, starting at Stationsweg 27. Riders will follow the same picturesque route as the Familiefietstocht\, enjoying the coastal breeze and passing through some of the most beautiful streets in the Bollenstreek. Moreover\, the ride offers a chance to take in the region’s stunning landscape\, including sandy beaches and charming local neighborhoods. The journey will conclude at Hoftuin in Hillegom\, where participants can unwind\, grab a bite\, and enjoy the festive activities happening there. Afterward\, riders can easily return to Stationsweg or continue exploring on their own. \nTo secure your spot\, make sure to register early through the event’s website. Keep in mind\, spots are limited\, with only 22 two-person e-scooters and 5 single-person e-scooters available. Furthermore\, there are 10 e-bikes for rent\, making this an accessible event for those looking to explore by bicycle. \nTips for Riders\nIn order to make the most of your Escooterrit\, consider these tips: \n\nArrive Early: It’s always a good idea to arrive ahead of time to complete the registration process and receive your safety briefing. This will also give you a chance to test your e-scooter before the event starts.\nDress Comfortably: The weather in the Bollenstreek can be unpredictable\, especially near the coast. Be sure to wear comfortable clothing and bring a light jacket\, just in case.\nFollow Safety Instructions: As with any outdoor event\, safety is paramount. Be sure to listen to the event organizers during the briefing\, and remember to wear your helmet at all times. Stay alert and follow the traffic rules to ensure a smooth ride.\nBring a Friend: If you’re opting for a two-person e-scooter\, team up with a friend for double the fun. The cost for two people is €20\, whereas a single rider pays €12.50.\nConsider Your Options for Kids: Families are welcome to join the Escooterrit. There are a limited number of child seats available for those riding with younger passengers\, so make sure to reserve one when you register.\n\nEscooterrit Hillegom Najaarsfeesten 2024 Conclusion\nThe Escooterrit Hillegom Najaarsfeesten 2024 promises to be an unforgettable part of this year’s festival. By combining scenic views with a fun mode of transportation\, this event allows riders to explore the Bollenstreek in a whole new way. After the ride\, you can relax at Hoftuin and enjoy the lively atmosphere with food\, drinks\, and good company. Don’t wait—register now\, as spots are limited\, and this exciting event is expected to fill up quickly! \n  \n\nDiscover an unforgettable family adventure at the Hillegom Najaarsfeesten\, packed with exciting activities for all ages! Be sure to check our Agenda for all event details and timings. For even more ways to explore the region\, dive into our Comprehensive Guide to Bollenstreek. Discover fun Activities and essential Information to make the most of your visit. \nDon’t forget to stop by Souvenir Shop Holland for unique gifts. For official travel updates\, visit the Dutch Government website.
URL:https://debollenstreek.com/event/escooterrit-hillegom-najaarsfeesten-2024/
LOCATION:Various locations in Hillegom\, Hillegom\, Netherlands
CATEGORIES:Bike,Culture,Event,Fair,Family-Fun,Hillegom,Kermis,Najaarsfeesten 2024,Outdoor,Sport,Tour
ATTACH;FMTTYPE=image/jpeg:https://debollenstreek.com/wp-content/uploads/2024/09/Escooterrit-Hillegom-Najaarsfeesten-2024-deBollenstreek.jpg
ORGANIZER;CN="Najaarsfeesten Hillegom 2024":MAILTO:info@harddraverijvereniginghillegom.nl
END:VEVENT
BEGIN:VEVENT
DTSTART;TZID=Europe/Amsterdam:20240908T120000
DTEND;TZID=Europe/Amsterdam:20240908T150000
DTSTAMP:20260422T095055
CREATED:20240905T110811Z
LAST-MODIFIED:20240905T110811Z
UID:1155-1725796800-1725807600@debollenstreek.com
SUMMARY:Familiefietstocht Hillegom Najaarsfeesten 2024
DESCRIPTION:Looking for a fun family activity at this year’s Hillegom Najaarsfeesten? The Familiefietstocht Hillegom Najaarsfeesten 2024 offers a perfect opportunity to explore beautiful surroundings by bike with your loved ones. On 8 September\, families can enjoy a scenic bike ride that takes them through lesser-known but stunning spots around Hillegom. With a well-prepared route and plenty of surprises along the way\, this is an event you won’t want to miss! \n\nEvent Details for Familiefietstocht Hillegom Najaarsfeesten 2024\n\nDate: Sunday\, 8 September 2024\nTime: The ride begins at 12:00 PM and will remain open until 1:00 PM. Arrive any time between these hours to start your journey.\nStarting Point: The event begins at Stationsweg 27\, where participants will receive a detailed route description before heading out.\nRoute: The route\, carefully selected by the organizers\, will lead participants through picturesque areas of Hillegom. You may even discover places you’ve never seen before!\nMidway Break: Halfway through the ride\, families can take a break and enjoy a free drink to recharge. This stop will allow everyone to relax and take in the beautiful surroundings before continuing the journey.\nEnd Point: At the end of the ride\, participants will stop by Brasserie Bij Daan in Hillegom\, where each family will receive a small keepsake to remember the day.\n\nImportant Note: Children up to 12 years old can join the ride\, but for safety reasons\, they must be accompanied by an adult. It’s a great way to share the experience and enjoy the event together! \n\nTips for Families Participating in Familiefietstocht Hillegom Najaarsfeesten 2024\n\nArrive Early: Although the event allows you to start up until 1:00 PM\, arriving early gives you time to settle in and enjoy the ride without feeling rushed.\nBring the Essentials: Make sure to pack water\, snacks\, and sun protection. Even though there will be a free drink at the midway point\, it’s always helpful to stay prepared\, especially if it’s a warm day.\nSafety First: Make sure younger children wear helmets\, and ensure that all bikes are in good working order before the event. This will make the ride both safer and more enjoyable for everyone involved.\nTake Your Time: There’s no rush! Enjoy the scenery and take full advantage of the beautiful views and hidden spots along the route. With designated stops along the way\, you’ll have plenty of opportunities to take breaks and enjoy the ride with your family.\nEnjoy the Memory: Don’t forget to collect your keepsake at Brasserie Bij Daan! It’s a wonderful way to remember a fun-filled day.\n\n\nConclusion\nThe Familiefietstocht Hillegom Najaarsfeesten 2024 is an excellent way for families to bond\, enjoy nature\, and participate in the festivities. With a scenic route\, well-planned stops\, and a fun keepsake at the end\, this event promises to be a highlight of the Najaarsfeesten. Whether you’re local or just visiting\, mark your calendar for 8 September 2024 and get ready for a delightful day of cycling with your family. We can’t wait to see you there! \n  \n\nDiscover an unforgettable family adventure at the Hillegom Najaarsfeesten\, packed with exciting activities for all ages! Be sure to check our Agenda for all event details and timings. For even more ways to explore the region\, dive into our Comprehensive Guide to Bollenstreek. Discover fun Activities and essential Information to make the most of your visit. \nDon’t forget to stop by Souvenir Shop Holland for unique gifts. For official travel updates\, visit the Dutch Government website.
URL:https://debollenstreek.com/event/familiefietstocht-hillegom-najaarsfeesten-2024/
LOCATION:Various locations in Hillegom\, Hillegom\, Netherlands
CATEGORIES:Bike,Event,Fair,Family-Fun,Hillegom,Kermis,Najaarsfeesten 2024,Outdoor,Sport,Tour
ATTACH;FMTTYPE=image/jpeg:https://debollenstreek.com/wp-content/uploads/2024/09/Familiefietstocht-Hillegom-Najaarsfeesten-2024-deBollenstreek.jpg
ORGANIZER;CN="Najaarsfeesten Hillegom 2024":MAILTO:info@harddraverijvereniginghillegom.nl
END:VEVENT
BEGIN:VEVENT
DTSTART;TZID=Europe/Amsterdam:20240908T123000
DTEND;TZID=Europe/Amsterdam:20240908T190000
DTSTAMP:20260422T095055
CREATED:20240905T111504Z
LAST-MODIFIED:20241227T234445Z
UID:1159-1725798600-1725822000@debollenstreek.com
SUMMARY:Padeltoernooi Hillegom Najaarsfeesten 2024
DESCRIPTION:If you’re 18 years or older and love padel\, you won’t want to miss the Padeltoernooi Hillegom Najaarsfeesten 2024! On 8 September\, HTC Hillegom will once again host this exciting padel tournament\, open to both casual players and experienced competitors. Whether you play padel every week or only occasionally\, this tournament promises a fun\, competitive\, and social atmosphere. Register with a partner\, and get ready to enjoy a fantastic afternoon of padel! \n\nEvent Details for Padeltoernooi Hillegom Najaarsfeesten 2024\n\nDate: Sunday\, 8 September 2024\nTime: The padel tournament will begin at 12:30 PM. Make sure to arrive early for check-in and warm-up.\nLocation: The tournament will be held at HTC Hillegom\, a top venue for padel enthusiasts.\nActivities:\n\nTournament Format: Participants will play in pairs\, and the tournament will be divided into skill levels. Players can choose between two categories during registration:\n\nWeekly Players: For those who play padel regularly.\nOccasional Players: For those who play less frequently and are looking for a more casual competition.\n\n\nHow to Register: Sign up as a pair through the official website. Remember\, spaces are limited\, and registration operates on a first-come\, first-served basis\, so be sure to register early!\n\n\n\n\nTips for Participating in Padeltoernooi Hillegom Najaarsfeesten 2024\n\nRegister Early: With limited spots available\, it’s crucial to register as soon as possible to secure your place in the tournament.\nChoose Your Category: Be honest about your playing level when you register\, as this will help ensure that the matches are competitive and enjoyable for all participants.\nArrive Early: Plan to arrive at HTC Hillegom at least 30 minutes before the tournament starts. This gives you time to check in\, meet your fellow players\, and warm up on the courts.\nStay Hydrated: Bring plenty of water to stay hydrated throughout the day\, especially if it’s sunny.\nBring Your Gear: Don’t forget to bring your padel racket and comfortable sportswear. If you don’t have your own equipment\, the club may have rackets available for use.\n\n\nConclusion\nThe Padeltoernooi Hillegom Najaarsfeesten 2024 is a must-attend event for padel lovers. With separate categories for regular and occasional players\, everyone has a chance to compete in a fun and friendly environment. Whether you’re looking to sharpen your skills or simply enjoy a day of padel with friends\, this tournament is sure to deliver. Register now and join us at HTC Hillegom on 8 September 2024 for an exciting day of competition and community! \n\nPadeltoernooi Hillegom Najaarsfeesten 2024 Details\n\nDate: Sunday\, 8 September 2024 at 12:30\nTime: 12:30 PM\nLocation: HTC Hillegom\nCost: Free (pre-registration required)\n\n  \n\nDiscover an unforgettable family adventure at the Hillegom Najaarsfeesten\, packed with exciting activities for all ages! Be sure to check our Agenda for all event details and timings. For even more ways to explore the region\, dive into our Comprehensive Guide to Bollenstreek. Discover fun Activities and essential Information to make the most of your visit. \nDon’t forget to stop by Souvenir Shop Holland for unique gifts. For official travel updates\, visit the Dutch Government website.
URL:https://debollenstreek.com/event/padeltoernooi-hillegom-najaarsfeesten-2024/
LOCATION:HTC Hillegom\, Stationsweg 29\, Hillegom\, 2182 BA\, Netherlands
CATEGORIES:Event,Family-Fun,Games,Hillegom,Kermis,Najaarsfeesten 2024,Sport
ATTACH;FMTTYPE=image/jpeg:https://debollenstreek.com/wp-content/uploads/2024/09/Padeltoernooi-Hillegom-Najaarsfeesten-2024.jpg
ORGANIZER;CN="Najaarsfeesten Hillegom 2024":MAILTO:info@harddraverijvereniginghillegom.nl
END:VEVENT
BEGIN:VEVENT
DTSTART;TZID=Europe/Amsterdam:20240908T143000
DTEND;TZID=Europe/Amsterdam:20240908T170000
DTSTAMP:20260422T095055
CREATED:20240905T115208Z
LAST-MODIFIED:20241227T234444Z
UID:1172-1725805800-1725814800@debollenstreek.com
SUMMARY:Dance Attitude Hillegom Najaarsfeesten 2024
DESCRIPTION:Get ready for an exciting dance showcase at the Dance Attitude Hillegom Najaarsfeesten 2024! On 8 September\, talented students from Dance Attitude will perform a range of vibrant dance styles. The performers include children\, teens\, and young adults\, offering a diverse show. Whether you’re a dance enthusiast or just want to enjoy a fun afternoon\, this event is perfect for everyone. \n\nEvent Details for Dance Attitude Hillegom Najaarsfeesten 2024\n\nDate: Sunday\, 8 September 2024\nTime: Performances start at 2:30 PM. Arrive early for a good view!\nLocation: The stage will be set on Hoofdstraat\, opposite the town hall in Hillegom. This central location is easy to reach and provides ample space for spectators.\nPerformers:\n\nDancers from Dance Attitude\, a popular local dance school\, will showcase their skills.\nPerformers range from children to young adults\, each demonstrating a variety of dance styles.\nExpect lively performances in genres such as hip hop\, jazz\, and contemporary\, adding variety and excitement to the show.\n\n\n\n\nHighlights of the Event\n\nAmazing Dance Styles: Enjoy a mix of high-energy and graceful dance routines. Dancers from all age groups will perform\, ensuring a diverse and captivating show.\nCommunity Spirit: The event brings together dancers and their families\, along with local residents. It’s a fantastic opportunity to experience the talent within Hillegom.\nInteractive Experience: After the performances\, the audience will have the chance to participate. If you love dancing\, this is your moment to join in the fun!\nFree Entry: This family-friendly event is free\, so everyone can enjoy a wonderful afternoon of dance without worrying about the cost.\n\n\nConclusion\nThe Dance Attitude Hillegom Najaarsfeesten 2024 is an unmissable part of this year’s festival. With a wide variety of performances and a lively atmosphere\, it’s set to be a highlight for all attendees. Be sure to join us on 8 September 2024\, at Hoofdstraat\, and watch the talented dancers from Dance Attitude put on an unforgettable show. We look forward to seeing you there! \n  \n\nDiscover an unforgettable family adventure at the Hillegom Najaarsfeesten\, packed with exciting activities for all ages! Be sure to check our Agenda for all event details and timings. For even more ways to explore the region\, dive into our Comprehensive Guide to Bollenstreek. Discover fun Activities and essential Information to make the most of your visit. \nDon’t forget to stop by Souvenir Shop Holland for unique gifts. For official travel updates\, visit the Dutch Government website.
URL:https://debollenstreek.com/event/dance-attitude-hillegom-najaarsfeesten-2024/
LOCATION:Gemeentehuis Hillegom\, Hoofdstraat 115\, Hillegom\, 2181 EC\, Netherlands
CATEGORIES:Dance,Event,Exhibition,Family-Fun,Festival,Hillegom,Kermis,Najaarsfeesten 2024,Party,Sport
ATTACH;FMTTYPE=image/jpeg:https://debollenstreek.com/wp-content/uploads/2024/09/Dance-Attitude-Hillegom-Najaarsfeesten-2024-deBollenstreek.jpg
ORGANIZER;CN="Najaarsfeesten Hillegom 2024":MAILTO:info@harddraverijvereniginghillegom.nl
END:VEVENT
END:VCALENDAR