BEGIN:VCALENDAR
VERSION:2.0
PRODID:-//de Bollenstreek - ECPv6.15.18//NONSGML v1.0//EN
CALSCALE:GREGORIAN
METHOD:PUBLISH
X-WR-CALNAME:de Bollenstreek
X-ORIGINAL-URL:https://debollenstreek.com
X-WR-CALDESC:Events for de Bollenstreek
REFRESH-INTERVAL;VALUE=DURATION:PT1H
X-Robots-Tag:noindex
X-PUBLISHED-TTL:PT1H
BEGIN:VTIMEZONE
TZID:Europe/Amsterdam
BEGIN:DAYLIGHT
TZOFFSETFROM:+0100
TZOFFSETTO:+0200
TZNAME:CEST
DTSTART:20230326T010000
END:DAYLIGHT
BEGIN:STANDARD
TZOFFSETFROM:+0200
TZOFFSETTO:+0100
TZNAME:CET
DTSTART:20231029T010000
END:STANDARD
BEGIN:DAYLIGHT
TZOFFSETFROM:+0100
TZOFFSETTO:+0200
TZNAME:CEST
DTSTART:20240331T010000
END:DAYLIGHT
BEGIN:STANDARD
TZOFFSETFROM:+0200
TZOFFSETTO:+0100
TZNAME:CET
DTSTART:20241027T010000
END:STANDARD
BEGIN:DAYLIGHT
TZOFFSETFROM:+0100
TZOFFSETTO:+0200
TZNAME:CEST
DTSTART:20250330T010000
END:DAYLIGHT
BEGIN:STANDARD
TZOFFSETFROM:+0200
TZOFFSETTO:+0100
TZNAME:CET
DTSTART:20251026T010000
END:STANDARD
END:VTIMEZONE
BEGIN:VEVENT
DTSTART;VALUE=DATE:20240907
DTEND;VALUE=DATE:20240917
DTSTAMP:20260425T045548
CREATED:20240804T221540Z
LAST-MODIFIED:20240915T193727Z
UID:766-1725674400-1726451999@debollenstreek.com
SUMMARY:Festival Week in Hillegom 2024
DESCRIPTION:From September 7 to 15\, 2024\, the town of Hillegom comes alive with the Festival Week\, organized by the Harddraverijvereniging Hillegom. This week-long celebration features a variety of activities for all ages\, making it one of the most anticipated events of the year. \nFestival Week in Hillegom 2024: Exciting Activities and Events\nThe exciting and vibrant festival week begins with an extensive series of fun-filled events and engaging activities designed for all ages. Among the numerous highlights are the following key attractions and special events: \n\nKermis (Funfair): Running from September 12-15\, the funfair offers rides\, games\, and treats for the whole family.\nKortebaan Horse Racing: On September 13\, witness the thrilling horse races that are a central part of the festival. This event draws crowds eager to see which horse will come out on top.\nCultural Events: Throughout the week\, enjoy various cultural performances\, music\, and dance\, showcasing the vibrant local culture of Hillegom.\n\nCommunity and Connection\nThis special week is not just about entertainment; it’s a community event that brings people together. Meet new friends\, connect with neighbors\, and experience the welcoming spirit of Hillegom. The festival provides an excellent opportunity for both locals and visitors to engage with the community. \nHarddraverij Festival Week is Family-Friendly Fun\nWith a wide range of activities\, the festival is perfect for families. Children can enjoy the funfair\, participate in games\, and enjoy the festive atmosphere. Adults can relax with a drink\, enjoy live music\, and watch the exciting horse races. \nPlan Your Visit\nDon’t miss this vibrant celebration in Hillegom. The Harddraverij Festival Week promises a week filled with excitement\, community\, and fun for all ages. \nFestival Week in Hillegom 2024 Event Details:\n\nDate: September 7-15\, 2024\nTime: Various times (see event schedule)\nLocation: Various locations in Hillegom\nCost: Free entry (some activities may have a fee)\n\n  \n\nThe Najaarsfeesten in Hillegom 2024 is one of the most anticipated events of the year. Whether you’re preparing for the festivities or already enjoying them\, the Hillegom Najaarsfeesten Kickoff sets the perfect tone. Be sure to check our Agenda for all event details and timings. \nKick off Feestweek Lisse with excitement and discover more thrilling events happening all week long right here! \nFor even more ways to explore the region\, dive into our Comprehensive Guide to Bollenstreek. Discover fun Activitiesand essential Information to make the most of your visit. \nDon’t forget to stop by Souvenir Shop Holland for unique gifts. For official travel updates\, visit the Dutch Government website.
URL:https://debollenstreek.com/event/festival-week-in-hillegom/
LOCATION:Kermis Hillegom\, Jonkheer Mockkade\, Hillegom\, 2181JH
CATEGORIES:Culture,Event,Fair,Family-Fun,Festival,Games,Hillegom,Kermis,Music,Night,Parades,Party
ATTACH;FMTTYPE=image/webp:https://debollenstreek.com/wp-content/uploads/2024/08/DALL·E-2024-08-05-01.58.50-A-scene-for-the-Harddraverij-Festival-Week-in-Hillegom-event-depicting-various-festival-activities-such-as-horse-racing-funfair-rides-and-live-pe.webp
ORGANIZER;CN="Harddraverij Vereniging Hillegom":MAILTO:info@harddraverijvereniginghillegom.nl
END:VEVENT
BEGIN:VEVENT
DTSTART;TZID=Europe/Amsterdam:20240912T150000
DTEND;TZID=Europe/Amsterdam:20240915T233000
DTSTAMP:20260425T045548
CREATED:20240908T142828Z
LAST-MODIFIED:20250828T145159Z
UID:1316-1726153200-1726443000@debollenstreek.com
SUMMARY:Kermis Hillegom Najaarsfeesten 2024
DESCRIPTION:The Kermis at the Hillegom Najaarsfeesten 2024 stands as the highlight of this festive season\, bringing unparalleled excitement and joy to the community. Running from 12 to 15 September\, this event promises an array of thrilling rides\, fun games\, and delightful food that cater to visitors of all ages. Furthermore\, with its wide range of attractions and activities\, it is sure to be an experience you won’t forget. \n\nEvent Details for the Kermis\n\nDate: Thursday\, 12 September 2024\nTime: The kermis officially opens at 3:00 PM and continues until midnight. Moreover\, it will be open from 1:00 PM to midnight on Friday\, Saturday\, and Sunday\, allowing visitors plenty of time to enjoy all it has to offer.\nLocation: The event takes place at the Hillegom fairground\, a central location perfect for hosting such a vibrant event. Additionally\, the fairground offers easy access and ample space for the attractions.\nFree Entry for Individuals with Disabilities: In line with the spirit of inclusivity\, the kermis offers free entryfrom 2:00 PM to 3:00 PM on Thursday for individuals with disabilities. This exclusive hour provides a quieter and more comfortable environment for these attendees.\n\n\nHighlights of the Kermis at Hillegom Najaarsfeesten 2024\nFirst and foremost\, the kermis boasts a variety of attractions\, making it an event suited for everyone. Whether you’re an adrenaline junkie or prefer something more relaxed\, there is plenty to enjoy. \n1. Thrilling Attractions\nAmong the many exciting rides\, visitors can look forward to the heart-racing Booster and FreeStyle rides\, both of which offer an exhilarating experience. Likewise\, the Polyp Power Wave will provide thrills for those seeking excitement. On the other hand\, for families and younger children\, classic rides such as the Draaimolen (carousel)\, Teacups\, and Mini-cars promise a fun-filled time. Therefore\, the kermis caters to both the adventurous and the cautious. \n2. Carnival Games for All\nAdditionally\, the kermis features a range of classic carnival games\, making it a perfect outing for the entire family. Visitors can challenge themselves with games like skee-ball\, eendensport (duck fishing)\, and the always-popular kamelenrace (camel race). Moreover\, the chance to win prizes adds to the excitement of these games. \n3. Delicious Food Stalls\nNo kermis is complete without mouth-watering snacks\, and the Hillegom Najaarsfeesten doesn’t disappoint. Visitors can indulge in a wide array of treats\, including traditional poffertjes (mini pancakes) and suikerspin (cotton candy). In addition\, savory options like Vietnamese loempia’s (spring rolls) and Dutch gebakkraam (donuts) ensure that there’s something to satisfy every craving. Besides\, the variety of food stalls guarantees that you’ll never go hungry during your visit. \n\nTips for Enjoying the Kermis at Hillegom Najaarsfeesten 2024\nIn order to fully enjoy your visit to the kermis\, there are a few tips to keep in mind. \n\nArrive Early: If you want to make the most of the event\, arriving early is essential. Given that the kermis is open from 3:00 PM onwards on Thursday\, getting there early ensures you can experience the rides and attractions before it gets too crowded. Furthermore\, for individuals with disabilities\, the free entry hour from 2:00 PM to 3:00 PM is the ideal time to visit.\nBring Your Friends and Family: The kermis is\, without a doubt\, more enjoyable when experienced with others. Whether you come with friends or family\, the wide range of activities ensures that there’s something for everyone to enjoy together.\nPlan Ahead: Since there are so many attractions\, rides\, and food stalls to explore\, it helps to plan ahead. Deciding in advance which rides or games you want to try can make the day smoother and more enjoyable. Plus\, it ensures that you don’t miss out on anything!\nStay Safe: Finally\, don’t forget to follow all safety guidelines and ride restrictions. After all\, safety is key to ensuring a fun time for everyone. Pay attention to any posted signs and listen to the ride operators’ instructions.\n\n\nConclusion\nIn conclusion\, the Opening van de Kermis at the Hillegom Najaarsfeesten 2024 promises four days of thrilling rides\, games\, and delicious food for all ages. Not only is it the highlight of the Najaarsfeesten\, but it’s also a fantastic opportunity to come together with friends and family for a fun-filled day. Don’t miss out—mark your calendar for 12 to 15 September and get ready to create unforgettable memories at the kermis! \n\nKermis Hillegom Najaarsfeesten 2024 Details\n\nDate: 12 – 15 September 2024\nTime: Thursday\, 3:00 PM – Midnight (free entry for people with disabilities from 2:00 PM – 3:00 PM)\nLocation: Hillegom fairground\nCost: Free entry\, with individual pricing for rides and games\n\n  \n\nDiscover an unforgettable family adventure at the Hillegom Najaarsfeesten. Discover more exciting events happening today! Be sure to check our Agenda for all event details and timings. For even more ways to explore the region\, dive into our Comprehensive Guide to Bollenstreek. Discover fun Activities and essential Information to make the most of your visit. Stop by Souvenir Shop Holland for unique gifts and best prices.
URL:https://debollenstreek.com/event/kermis-hillegom-najaarsfeesten-2024/
LOCATION:Kermis Hillegom\, Jonkheer Mockkade\, Hillegom\, 2181JH
CATEGORIES:Culture,Event,Fair,Family-Fun,Festival,Games,Hillegom,Kermis,Najaarsfeesten 2024,Night,Outdoor
ATTACH;FMTTYPE=image/jpeg:https://debollenstreek.com/wp-content/uploads/2024/09/Opening-van-de-Kermis-Hillegom-Najaarsfeesten-2024-deBollenstreek.jpg
ORGANIZER;CN="Najaarsfeesten Hillegom 2024":MAILTO:info@harddraverijvereniginghillegom.nl
END:VEVENT
BEGIN:VEVENT
DTSTART;TZID=Europe/Amsterdam:20240914T093000
DTEND;TZID=Europe/Amsterdam:20240914T123000
DTSTAMP:20260425T045548
CREATED:20240911T001551Z
LAST-MODIFIED:20250828T145341Z
UID:1381-1726306200-1726317000@debollenstreek.com
SUMMARY:Kleuterzeskamp Hillegom Najaarsfeesten 2024
DESCRIPTION:Are you looking for a perfect event that combines fun and challenge for your little one? The Kleuterzeskamp at Hillegom Najaarsfeesten 2024 offers an ideal opportunity for kids aged 4 to 6. With a variety of obstacle courses\, exciting games\, and prizes to be won\, this event is sure to be a highlight of the festival. Starting at 9:30 AM on Saturday\, 14 September\, the games will be held at Sporthal De Vosse\, and best of all\, participation is free! So\, mark your calendar and prepare for an unforgettable day. \n\nEvent Details: Time\, Location\, and Activities\nThe Kleuterzeskamp will begin at 9:30 AM sharp in the indoor Sporthal De Vosse\, making it a weather-proof event. Moreover\, a range of activities designed specifically for young children will keep them entertained for hours. For instance\, the obstacle courses will test their balance and agility\, while the ball toss games challenge their aim. \nAdditionally\, the event will include fun relay races\, where teams of children will work together to complete the course. Meanwhile\, there will be prizes for those who excel in the games\, ensuring that every participant has a great time. Not only will the top performers win exciting prizes\, but each child will also receive a free ticket to one of the many attractions at the Hillegom Kermis. Therefore\, no one leaves empty-handed! \n\nTips for Parents\nTo make the most out of this exciting event\, here are some helpful tips for parents: \n\nArrive Early: While the event starts at 9:30 AM\, it’s a good idea to arrive around 10:00 AM for registration. This will give your child time to settle in and get comfortable with the event’s surroundings.\nDress Comfortably: Ensure your child is dressed in clothes and shoes that allow for easy movement. Comfortable clothing will help them move freely while participating in the various activities.\nEncourage Participation: The Kleuterzeskamp is all about having fun\, so encourage your child to focus on the experience rather than on winning. Every child will enjoy the games more if they’re focused on simply participating.\nStay Hydrated: Bring along a water bottle for your child\, as they will likely be quite active during the games. Staying hydrated is important\, especially during long periods of physical activity.\nCapture the Moment: Don’t forget to bring your camera! The sight of your little one navigating obstacle courses or throwing balls at targets is a memory you’ll want to capture and cherish for years to come.\n\n\nConclusion\nThe Kleuterzeskamp at the Hillegom Najaarsfeesten 2024 is a fantastic way for children to enjoy a morning of games\, friendly competition\, and community spirit. From obstacle courses to ball tosses and relay races\, there’s something for every child. Moreover\, the free entry and kermis tickets ensure that no one goes home disappointed. So\, gather your little ones\, dress them for action\, and head over to Sporthal De Vosse for a morning packed with fun! \n\nKleuterzeskamp Hillegom Najaarsfeesten 2024 Details\n\nDate: Saturday\, 14 September 2024\nTime: 9:30 AM\nLocation: Sporthal De Vosse\, Hillegom\nEntry Cost: Free\n\n  \n\nDiscover an unforgettable family adventure at the Hillegom Najaarsfeesten. Begin the final weekend with excitement\, explore all the thrilling events happening today! Be sure to check our Agenda for all event details and timings. For even more ways to explore the region\, dive into our Comprehensive Guide to Bollenstreek. Discover fun Activities and essential Information to make the most of your visit. Stop by Souvenir Shop Holland for unique gifts and best prices.
URL:https://debollenstreek.com/event/kleuterzeskamp-hillegom-najaarsfeesten-2024/
LOCATION:Sporthal De Vosse\, Vosselaan 152\, Hillegom\, 2181 CD\, Netherlands
CATEGORIES:Event,Family-Fun,Festival,Games,Hillegom,Kermis,Kids,Najaarsfeesten 2024,Outdoor
ATTACH;FMTTYPE=image/jpeg:https://debollenstreek.com/wp-content/uploads/2024/09/Kleuterzeskamp-Hillegom-Najaarsfeesten-2024-deBolle-streek.jpg
ORGANIZER;CN="Najaarsfeesten Hillegom 2024":MAILTO:info@harddraverijvereniginghillegom.nl
END:VEVENT
BEGIN:VEVENT
DTSTART;TZID=Europe/Amsterdam:20240914T133000
DTEND;TZID=Europe/Amsterdam:20240914T170000
DTSTAMP:20260425T045548
CREATED:20240911T002549Z
LAST-MODIFIED:20250828T145122Z
UID:1385-1726320600-1726333200@debollenstreek.com
SUMMARY:Fun in het park Hillegom Najaarsfeesten 2024
DESCRIPTION:Prepare for an adrenaline-packed adventure at the Fun in het Park during the Hillegom Najaarsfeesten 2024! This annual Mud Challenge Extravaganza\, organized by the Harddraverij Vereniging in partnership with Sportschool Aarts\, promises a day filled with fun\, challenges\, and excitement. Whether you’re a teen looking for a thrilling activity or an adult ready to take on an intense obstacle course\, this event has something for everyone. Held on Saturday\, 14 September\, this muddy challenge kicks off in Park Elsbroek at 13:30 PM with registration opening on the day itself. \n\nEvent Details: Time\, Location\, and Activities\nSet in the picturesque Park Elsbroek\, the Mud Challenge will test your strength\, endurance\, and determination. Divided into two categories—Youth (8-16 years) and Adults (16+ years)—the challenge offers participants the chance to compete individually or in groups. You can join as a duo with your friend\, as part of a larger group\, or tackle the challenge solo! \nThe course is filled with obstacles\, water challenges\, and tons of mud\, making it a thrilling experience for all participants. The event features: \n\nWater Challenges: Wade through mud pits and splash through water hurdles.\nObstacles: Test your endurance and problem-solving skills with various physical challenges.\nMud Pits: Get dirty as you crawl\, slide\, and push your way through the course.\n\nMoreover\, all participants in the youth category will receive a kermis ticket\, adding even more excitement to the day. \n\nTips for Participation\nTo ensure you’re fully prepared for this fantastic mud challenge\, here are a few tips: \n\nArrive Early: Registration opens at 13:30\, so arrive early to secure your spot and familiarize yourself with the course.\nWear Proper Gear: Since water and mud are key elements of the course\, make sure to wear comfortable clothes that you don’t mind getting dirty. Water shoes and a swimming certificate are mandatory for safety throughout the event.\nPack Extra Clothes: Given the muddy nature of the event\, you’ll definitely want a fresh set of clothes for after the challenge. There will be showers available\, so pack a towel and change of clothes.\nStay Hydrated: With all the physical activity\, staying hydrated is crucial. Bring a water bottle to keep yourself refreshed during the event.\nEnjoy the Afterparty: After you’ve completed the challenge\, stick around for the afterparty hosted by Sportschool Aarts. Enjoy music\, food\, and drinks\, all while being entertained by local singer Michel van Rijswijk. It’s the perfect way to wind down after a day of fun and exertion.\n\n\nConclusion\nIf you’re seeking a thrilling and adventurous way to spend your Saturday\, look no further than Fun in het Park at Hillegom Najaarsfeesten 2024. With its exhilarating Mud Challenge\, this event offers both youth and adults a chance to challenge themselves\, have fun\, and make lasting memories. Don’t miss out on this action-packed day at Park Elsbroek\, where you’ll not only push your limits but also enjoy a post-event celebration filled with food\, music\, and plenty of laughs. Bring your friends and family\, get ready to cheer each other on\, and make this year’s Hillegom Najaarsfeesten an unforgettable experience! \n\nFun in het Park Hillegom Najaarsfeesten 2024 Details\n\nDate: Saturday\, 14 September 2024\nTime: 13:30 PM (Registration)\nLocation: Park Elsbroek\, Hillegom\nEntry Cost: Free\n\n  \n\nDiscover an unforgettable family adventure at the Hillegom Najaarsfeesten. Begin the final weekend with excitement\, explore all the thrilling events happening today! Be sure to check our Agenda for all event details and timings. For even more ways to explore the region\, dive into our Comprehensive Guide to Bollenstreek. Discover fun Activities and essential Information to make the most of your visit. Stop by Souvenir Shop Holland for unique gifts and best prices.
URL:https://debollenstreek.com/event/fun-in-het-park-hillegom-najaarsfeesten-2024/
LOCATION:Park Elsbroek\, Megaralaan 44\, Hillegom\, 2182 TW\, Netherlands
CATEGORIES:Event,Fair,Family-Fun,Festival,Games,Hillegom,Kermis,Najaarsfeesten 2024,Outdoor,Sport
ATTACH;FMTTYPE=image/jpeg:https://debollenstreek.com/wp-content/uploads/2024/09/Fun-in-het-park-Hillegom-Najaarsfeesten-2024-deBollenstreek.jpg
END:VEVENT
BEGIN:VEVENT
DTSTART;TZID=Europe/Amsterdam:20240914T190000
DTEND;TZID=Europe/Amsterdam:20240914T233000
DTSTAMP:20260425T045548
CREATED:20240911T010216Z
LAST-MODIFIED:20250828T145119Z
UID:1404-1726340400-1726356600@debollenstreek.com
SUMMARY:Up to the Pub Hillegom Najaarsfeesten 2024
DESCRIPTION:As the vibrant Hillegom Najaarsfeesten 2024 enters its final weekend\, excitement builds for one of the most anticipated events: Up to the Pub. This lively night\, happening on Saturday\, 14 September\, promises non-stop fun with live music performances at two of Hillegom’s favorite pubs. Starting at 19:00 PM\, both De Kleine Beurs and Murphy’s Pub will come alive with energetic bands and a festive atmosphere. Whether you want to sing along or dance the night away\, this is the perfect way to celebrate the festival’s final weekend. \n\nEvent Details: Time\, Location\, and Music Lineup\nThe action kicks off at 19:00 PM in two popular venues in Hillegom: De Kleine Beurs and Murphy’s Pub. Each pub offers its own unique atmosphere\, with great music ensuring an evening to remember. \nAt De Kleine Beurs\, the fantastic band Random One will be performing their collection of classics and contemporary hits. Their lively energy and infectious rhythms will have you dancing and singing along in no time. Meanwhile\, Murphy’s Pub will host FUNX10N\, a high-energy band known for their eclectic mix of rock\, pop\, and party anthems. They are sure to keep the crowd hyped up throughout the evening. \nWith such a variety of music on offer\, there’s something for everyone. You can move between the two pubs or settle in at your favorite spot\, soaking up the fun vibes. \n\nTips for Participation\nTo make the most of your evening at Up to the Pub\, here are some handy tips to ensure you have a smooth and enjoyable experience: \n\nArrive Early: As it’s one of the main events of the festival\, the venues are bound to fill up fast. Be sure to get there early to grab a good spot near the stage.\nChoose Your Vibe: Whether you prefer a more laid-back pub experience at De Kleine Beurs or an upbeat dance atmosphere at Murphy’s Pub\, both locations promise a fantastic night. You can even switch between the two venues to get the best of both worlds!\nStay Safe: If you’re planning to enjoy a drink or two\, make sure you have a safe way to get home. Consider carpooling with friends or booking a taxi in advance.\nBring Friends: The more\, the merrier! This event is perfect for groups\, so gather your friends and family for a night filled with music and laughter.\n\n\nHighlights of the Event\n\nLive Performances by Two Incredible Bands: At De Kleine Beurs\, Random One will be performing a fantastic mix of tunes that are sure to get everyone on their feet. At Murphy’s Pub\, FUNX10N will bring their signature energy to the stage\, ensuring a high-octane performance you won’t want to miss.\nLocal Pubs with Great Atmosphere: Both De Kleine Beurs and Murphy’s Pub are beloved spots in Hillegom\, known for their warm\, welcoming vibe. You’ll feel right at home as you enjoy the night with fellow festival-goers.\nFree Entry: Best of all\, Up to the Pub is a free event\, making it accessible for everyone. No need to worry about tickets—just show up and enjoy the night.\n\n\nConclusion\nThe Up to the Pub event at the Hillegom Najaarsfeesten 2024 is not to be missed. With live music\, a vibrant atmosphere\, and free entry\, it’s the perfect way to wrap up the festival’s final weekend. Whether you’re at De Kleine Beurs rocking out to Random One\, or at Murphy’s Pub dancing to the energetic beats of FUNX10N\, you’re guaranteed a night full of fun and laughter. So\, mark your calendars for Saturday\, 14 September\, and get ready for an unforgettable evening! \n\nEvent Summary \n\nDate: Saturday\, 14 September 2024\nTime: 19:00 PM\nLocation: De Kleine Beurs and Murphy’s Pub\, Hillegom\nEntry Cost: Free\n\n  \n\nDiscover an unforgettable family adventure at the Hillegom Najaarsfeesten. Begin the final weekend with excitement\, explore all the thrilling events happening today! Be sure to check our Agenda for all event details and timings. For even more ways to explore the region\, dive into our Comprehensive Guide to Bollenstreek. Discover fun Activities and essential Information to make the most of your visit. Stop by Souvenir Shop Holland for unique gifts and best prices.
URL:https://debollenstreek.com/event/up-to-the-pub-hillegom-najaarsfeesten-2024/
LOCATION:Various locations in Hillegom\, Hillegom\, Netherlands
CATEGORIES:Drinks,Event,Fair,Family-Fun,Festival,Hillegom,Kermis,Live Music,Najaarsfeesten 2024,Night,Party
ATTACH;FMTTYPE=image/jpeg:https://debollenstreek.com/wp-content/uploads/2024/09/Up-to-the-Pub-Hillegom-Najaarsfeesten-2024-deBollenstreek.jpg
ORGANIZER;CN="Najaarsfeesten Hillegom 2024":MAILTO:info@harddraverijvereniginghillegom.nl
END:VEVENT
END:VCALENDAR