BEGIN:VCALENDAR
VERSION:2.0
PRODID:-//de Bollenstreek - ECPv6.15.18//NONSGML v1.0//EN
CALSCALE:GREGORIAN
METHOD:PUBLISH
X-WR-CALNAME:de Bollenstreek
X-ORIGINAL-URL:https://debollenstreek.com
X-WR-CALDESC:Events for de Bollenstreek
REFRESH-INTERVAL;VALUE=DURATION:PT1H
X-Robots-Tag:noindex
X-PUBLISHED-TTL:PT1H
BEGIN:VTIMEZONE
TZID:Europe/Amsterdam
BEGIN:DAYLIGHT
TZOFFSETFROM:+0100
TZOFFSETTO:+0200
TZNAME:CEST
DTSTART:20230326T010000
END:DAYLIGHT
BEGIN:STANDARD
TZOFFSETFROM:+0200
TZOFFSETTO:+0100
TZNAME:CET
DTSTART:20231029T010000
END:STANDARD
BEGIN:DAYLIGHT
TZOFFSETFROM:+0100
TZOFFSETTO:+0200
TZNAME:CEST
DTSTART:20240331T010000
END:DAYLIGHT
BEGIN:STANDARD
TZOFFSETFROM:+0200
TZOFFSETTO:+0100
TZNAME:CET
DTSTART:20241027T010000
END:STANDARD
BEGIN:DAYLIGHT
TZOFFSETFROM:+0100
TZOFFSETTO:+0200
TZNAME:CEST
DTSTART:20250330T010000
END:DAYLIGHT
BEGIN:STANDARD
TZOFFSETFROM:+0200
TZOFFSETTO:+0100
TZNAME:CET
DTSTART:20251026T010000
END:STANDARD
END:VTIMEZONE
BEGIN:VEVENT
DTSTART;TZID=Europe/Amsterdam:20240913T190000
DTEND;TZID=Europe/Amsterdam:20240913T233000
DTSTAMP:20260423T005157
CREATED:20240909T222540Z
LAST-MODIFIED:20250828T145125Z
UID:1367-1726254000-1726270200@debollenstreek.com
SUMMARY:Goed Foute Afterparty Hillegom Najaarsfeesten 2024
DESCRIPTION:The grand finale of the Hillegom Najaarsfeesten 2024 is none other than the Goed Foute Afterparty\, a lively event guaranteed to keep the energy high. This year\, the afterparty kicks off on Friday\, 13 September 2024\, at 7:00 PM. It’s a night you don’t want to miss\, especially since entry is free for everyone! Once you step into the venue\, you’ll be greeted by fun music\, a lively crowd\, and non-stop dancing. Therefore\, if you’re ready to end the festival on a high note\, the Goed Foute Afterparty is where you need to be! \n\nEvent Details: Time\, Location\, and Music\n\nDate: Friday\, 13 September 2024\nTime: Be sure to arrive by 7:00 PM to catch all the action as soon as it begins. The music and entertainment will carry on well into the night\, so prepare to party for hours.\nLocation: The venue\, located centrally in Hillegom\, will be easily accessible for everyone. Exact location details will be provided soon.\nEntry: Since entry is free\, make sure to arrive early\, as this event tends to fill up quickly. Once the venue reaches capacity\, no additional guests will be allowed in\, so don’t be late!\n\nAs the night unfolds\, you’ll experience a blend of nostalgic foute (cheesy) hits and modern party anthems. The music is designed to keep you on your feet all night\, ensuring there’s never a dull moment. \n\nMusical Highlights of the Afterparty\nThe Goed Foute Afterparty lineup features some of Hillegom’s most beloved performers. Throughout the night\, these talented DJs and singers will deliver top-notch entertainment\, ensuring you have the time of your life. \n\nMarco DJ: Marco DJ will kick off the night with a dynamic mix of retro hits and modern chart-toppers. As the crowd gathers\, you’ll instantly feel the energy building\, especially as he seamlessly transitions between tracks that keep everyone dancing.\nDave van Schie: Known for his interactive performances\, Dave van Schie is sure to get the crowd involved. With a mix of sing-along favorites and audience participation\, he’ll bring a lively and engaging atmosphere to the party.\nAnnelie Smits: As the night progresses\, Annelie Smits will take to the stage\, captivating the crowd with her powerful vocals. Whether you’re a fan of pop classics or contemporary hits\, her performance will deliver something for everyone to enjoy.\nFeest DJ Vlunder: To close out the night\, Feest DJ Vlunder will spin a final set filled with upbeat party tracks. His crowd-pleasing set ensures the afterparty ends on a high note\, leaving everyone in a celebratory mood.\n\n\nWhy You Should Attend the Goed Foute Afterparty\n\nFree Entry: Since the afterparty is open to everyone with no entry cost\, there’s absolutely no reason to miss out. Make sure to arrive early\, though\, as the venue fills up fast\, and once it’s full\, entry will close.\nFantastic Performers: With an exciting lineup of DJs and singers\, the night promises to deliver continuous entertainment. You’ll experience a variety of musical styles\, all designed to keep the energy high and the party going.\nFun Atmosphere: The Goed Foute Afterparty has earned a reputation for being one of the most enjoyable events of the Hillegom Najaarsfeesten. Whether you’re there to dance or just have a good time with friends\, you’ll love the laid-back yet energetic vibe of the evening.\nCelebrate the End of the Festival: After days of festivities\, the afterparty is the perfect way to wrap up the Hillegom Najaarsfeesten 2024. Gather with friends\, meet new people\, and celebrate one last time before the festival officially comes to a close.\n\n\nConclusion\nDon’t miss out on the ultimate party of the Hillegom Najaarsfeesten 2024! The Goed Foute Afterparty promises a night of incredible music\, free entry\, and an atmosphere that will keep you dancing until the very end. Make sure to arrive early to secure your spot and get ready for an unforgettable night. Whether you’re a fan of classic foute music or you’re just looking for a fun night out\, this afterparty has something for everyone. Let’s celebrate together and end the festival in style! \n\nGoed Foute Afterparty Hillegom Najaarsfeesten 2024 Details\n\nDate: Friday\, 13 September 2024\nTime: 19:00 onwards\nLocation: Kermis Hillegom\nEntry Cost: Free\n\n  \n\nDiscover an unforgettable family adventure at the Hillegom Najaarsfeesten. Explore Friday the 13th fun with thrilling events\, and enjoy a day full of excitement! Discover more exciting events happening today! Be sure to check our Agenda for all event details and timings. For even more ways to explore the region\, dive into our Comprehensive Guide to Bollenstreek. Discover fun Activities and essential Information to make the most of your visit. Stop by Souvenir Shop Holland for unique gifts and best prices.
URL:https://debollenstreek.com/event/goed-foute-afterparty-hillegom-najaarsfeesten-2024/
LOCATION:Kermis Hillegom\, Jonkheer Mockkade\, Hillegom\, 2181JH
CATEGORIES:Dance,Drinks,Event,Family-Fun,Festival,Hillegom,Kermis,Najaarsfeesten 2024,Night,Party
ATTACH;FMTTYPE=image/jpeg:https://debollenstreek.com/wp-content/uploads/2024/09/Goed-Foute-Afterparty-Hillegom-Najaarsfeesten-2024-deBollenstreek.jpg
END:VEVENT
BEGIN:VEVENT
DTSTART;TZID=Europe/Amsterdam:20240914T190000
DTEND;TZID=Europe/Amsterdam:20240914T233000
DTSTAMP:20260423T005157
CREATED:20240911T010216Z
LAST-MODIFIED:20250828T145119Z
UID:1404-1726340400-1726356600@debollenstreek.com
SUMMARY:Up to the Pub Hillegom Najaarsfeesten 2024
DESCRIPTION:As the vibrant Hillegom Najaarsfeesten 2024 enters its final weekend\, excitement builds for one of the most anticipated events: Up to the Pub. This lively night\, happening on Saturday\, 14 September\, promises non-stop fun with live music performances at two of Hillegom’s favorite pubs. Starting at 19:00 PM\, both De Kleine Beurs and Murphy’s Pub will come alive with energetic bands and a festive atmosphere. Whether you want to sing along or dance the night away\, this is the perfect way to celebrate the festival’s final weekend. \n\nEvent Details: Time\, Location\, and Music Lineup\nThe action kicks off at 19:00 PM in two popular venues in Hillegom: De Kleine Beurs and Murphy’s Pub. Each pub offers its own unique atmosphere\, with great music ensuring an evening to remember. \nAt De Kleine Beurs\, the fantastic band Random One will be performing their collection of classics and contemporary hits. Their lively energy and infectious rhythms will have you dancing and singing along in no time. Meanwhile\, Murphy’s Pub will host FUNX10N\, a high-energy band known for their eclectic mix of rock\, pop\, and party anthems. They are sure to keep the crowd hyped up throughout the evening. \nWith such a variety of music on offer\, there’s something for everyone. You can move between the two pubs or settle in at your favorite spot\, soaking up the fun vibes. \n\nTips for Participation\nTo make the most of your evening at Up to the Pub\, here are some handy tips to ensure you have a smooth and enjoyable experience: \n\nArrive Early: As it’s one of the main events of the festival\, the venues are bound to fill up fast. Be sure to get there early to grab a good spot near the stage.\nChoose Your Vibe: Whether you prefer a more laid-back pub experience at De Kleine Beurs or an upbeat dance atmosphere at Murphy’s Pub\, both locations promise a fantastic night. You can even switch between the two venues to get the best of both worlds!\nStay Safe: If you’re planning to enjoy a drink or two\, make sure you have a safe way to get home. Consider carpooling with friends or booking a taxi in advance.\nBring Friends: The more\, the merrier! This event is perfect for groups\, so gather your friends and family for a night filled with music and laughter.\n\n\nHighlights of the Event\n\nLive Performances by Two Incredible Bands: At De Kleine Beurs\, Random One will be performing a fantastic mix of tunes that are sure to get everyone on their feet. At Murphy’s Pub\, FUNX10N will bring their signature energy to the stage\, ensuring a high-octane performance you won’t want to miss.\nLocal Pubs with Great Atmosphere: Both De Kleine Beurs and Murphy’s Pub are beloved spots in Hillegom\, known for their warm\, welcoming vibe. You’ll feel right at home as you enjoy the night with fellow festival-goers.\nFree Entry: Best of all\, Up to the Pub is a free event\, making it accessible for everyone. No need to worry about tickets—just show up and enjoy the night.\n\n\nConclusion\nThe Up to the Pub event at the Hillegom Najaarsfeesten 2024 is not to be missed. With live music\, a vibrant atmosphere\, and free entry\, it’s the perfect way to wrap up the festival’s final weekend. Whether you’re at De Kleine Beurs rocking out to Random One\, or at Murphy’s Pub dancing to the energetic beats of FUNX10N\, you’re guaranteed a night full of fun and laughter. So\, mark your calendars for Saturday\, 14 September\, and get ready for an unforgettable evening! \n\nEvent Summary \n\nDate: Saturday\, 14 September 2024\nTime: 19:00 PM\nLocation: De Kleine Beurs and Murphy’s Pub\, Hillegom\nEntry Cost: Free\n\n  \n\nDiscover an unforgettable family adventure at the Hillegom Najaarsfeesten. Begin the final weekend with excitement\, explore all the thrilling events happening today! Be sure to check our Agenda for all event details and timings. For even more ways to explore the region\, dive into our Comprehensive Guide to Bollenstreek. Discover fun Activities and essential Information to make the most of your visit. Stop by Souvenir Shop Holland for unique gifts and best prices.
URL:https://debollenstreek.com/event/up-to-the-pub-hillegom-najaarsfeesten-2024/
LOCATION:Various locations in Hillegom\, Hillegom\, Netherlands
CATEGORIES:Drinks,Event,Fair,Family-Fun,Festival,Hillegom,Kermis,Live Music,Najaarsfeesten 2024,Night,Party
ATTACH;FMTTYPE=image/jpeg:https://debollenstreek.com/wp-content/uploads/2024/09/Up-to-the-Pub-Hillegom-Najaarsfeesten-2024-deBollenstreek.jpg
ORGANIZER;CN="Najaarsfeesten Hillegom 2024":MAILTO:info@harddraverijvereniginghillegom.nl
END:VEVENT
BEGIN:VEVENT
DTSTART;TZID=Europe/Amsterdam:20240919T220000
DTEND;TZID=Europe/Amsterdam:20240926T233000
DTSTAMP:20260423T005157
CREATED:20240915T195530Z
LAST-MODIFIED:20250828T145335Z
UID:1462-1726783200-1727393400@debollenstreek.com
SUMMARY:Festive Week Lisse 2024
DESCRIPTION:Each September\, the town of Lisse comes alive with the Festive Week Lisse 2024\, a week-long celebration that unites the entire community. This event\, filled with over 90 activities\, offers something exciting for everyone. Whether you enjoy thrilling attractions or cultural performances\, the Feestweek perfectly blends tradition and fun. For generations\, this festival has been a key part of local life\, attracting both residents and visitors eager to experience Lisse’s rich culture. \nThe Festive Week Lisse 2024 symbolizes unity\, bringing neighbors and friends together for shared moments of joy. Organized by the dedicated Harddraverijvereniging Lisse\, the festival has grown into one of the region’s most anticipated events. Families\, friends\, and visitors can join a variety of activities\, including live concerts\, bustling markets\, and children’s races. The kermis\, one of the largest in the Bollenstreek\, adds even more excitement. Signature events like the Kortebaandraverij horse race and the dazzling fireworks display continue to draw large crowds year after year. \nUltimately\, the Festive Week Lisse reflects the enduring community spirit that defines the town. For eight days\, Lisse transforms into a lively hub where everyone can come together and experience the town’s traditions. It’s more than just a week of fun—it’s a celebration of the heart and soul of Lisse. \nEvent Details Festive Week Lisse 2024\nThe festival offers plenty of highlights\, such as: \n\nMusic and Performances: Featuring local and national artists performing at various venues.\nFunfair (Kermis): Offering thrilling rides and fun for both kids and adults.\nKortebaandraverij Horse Race: A centuries-old event that is the heart of the festival\, taking place on the final day.\nSports Activities: Fun and competitive events that bring the community together.\nCultural Events: Showcasing Lisse’s heritage\, with activities for all ages.\n\nViewing Tips for the Fireworks Festive Week Lisse 2024\nMake sure to catch the fireworks display on the final night at 22:30\, which will illuminate the skies above Lisse and the surrounding areas. \nOpening Hours Kermis\n\nTuesday\, September 24: 16:00 to 24:00\nWednesday\, September 25: 13:00 to 24:00\nThursday\, September 26: 11:00 to 24:00\n\nConclusion\nFestive Week Lisse 2024 is an incredible experience for the whole family\, with something for everyone to enjoy. Whether you’re exploring the funfair\, watching live performances\, or soaking up the town’s cultural charm\, this event captures the essence of Lisse’s community spirit. \n  \nBe sure to check our Agenda for all event details and timings. For even more ways to explore the region\, dive into our Comprehensive Guide to Bollenstreek. Discover fun Activitiesand essential Information to make the most of your visit. Don’t forget to stop by Souvenir Shop Holland for unique gifts. For official travel updates\, visit the Dutch Government website.
URL:https://debollenstreek.com/event/festive-week-lisse-2024/
LOCATION:Kermis Lisse\, Lisse
CATEGORIES:Culture,Event,Family-Fun,Games,Kermis,Lisse,Live Music,Music,Najaarsfeesten 2024,Outdoor,Party
ATTACH;FMTTYPE=image/png:https://debollenstreek.com/wp-content/uploads/2024/09/Feestweek-Lisse-2024-deBollenstreek-1.png
END:VEVENT
END:VCALENDAR