BEGIN:VCALENDAR
VERSION:2.0
PRODID:-//de Bollenstreek - ECPv6.15.18//NONSGML v1.0//EN
CALSCALE:GREGORIAN
METHOD:PUBLISH
X-WR-CALNAME:de Bollenstreek
X-ORIGINAL-URL:https://debollenstreek.com
X-WR-CALDESC:Events for de Bollenstreek
REFRESH-INTERVAL;VALUE=DURATION:PT1H
X-Robots-Tag:noindex
X-PUBLISHED-TTL:PT1H
BEGIN:VTIMEZONE
TZID:Europe/Amsterdam
BEGIN:DAYLIGHT
TZOFFSETFROM:+0100
TZOFFSETTO:+0200
TZNAME:CEST
DTSTART:20230326T010000
END:DAYLIGHT
BEGIN:STANDARD
TZOFFSETFROM:+0200
TZOFFSETTO:+0100
TZNAME:CET
DTSTART:20231029T010000
END:STANDARD
BEGIN:DAYLIGHT
TZOFFSETFROM:+0100
TZOFFSETTO:+0200
TZNAME:CEST
DTSTART:20240331T010000
END:DAYLIGHT
BEGIN:STANDARD
TZOFFSETFROM:+0200
TZOFFSETTO:+0100
TZNAME:CET
DTSTART:20241027T010000
END:STANDARD
BEGIN:DAYLIGHT
TZOFFSETFROM:+0100
TZOFFSETTO:+0200
TZNAME:CEST
DTSTART:20250330T010000
END:DAYLIGHT
BEGIN:STANDARD
TZOFFSETFROM:+0200
TZOFFSETTO:+0100
TZNAME:CET
DTSTART:20251026T010000
END:STANDARD
END:VTIMEZONE
BEGIN:VEVENT
DTSTART;VALUE=DATE:20240910
DTEND;VALUE=DATE:20240915
DTSTAMP:20260421T103129
CREATED:20240728T103956Z
LAST-MODIFIED:20240804T235142Z
UID:607-1725933600-1726279199@debollenstreek.com
SUMMARY:Duin en Bollen Vierdaagse 2024
DESCRIPTION:Experience the Duin en Bollen Vierdaagse 2024!\nJoin us for the third annual Duin en Bollen Vierdaagse from October 10-13\, 2024. This four-day walking event takes you through the picturesque towns of Hillegom\, Lisse\, Katwijk\, and Noordwijk\, offering some of the most beautiful walking routes in the Netherlands. With diverse distances to choose from\, there’s a perfect route for everyone\, whether you’re a seasoned walker or just looking for a leisurely stroll. \nDay 1: Hillegom – A Festive Start\nThe adventure begins in the charming town of Hillegom. Walk through sandy grounds and along the Haarlemmertrekvaart\, enjoying the scenic Vosse- and Weerlanerpolder. Don’t miss the Beatles monument as you return to the bustling Hoofdstraat of Hillegom. Hillegom’s local entrepreneurs\, organized under Ondernemend Hillegom\, have planned festivities with Beatles music\, selfie spots\, and bulb gift bags to kick off the event in style. \nDay 2: Lisse – Through Polders and Gardens\nStart your journey in Lisse\, navigating the beautiful Rooversbroekdijk and past the Lisserpoelmolen. The route takes you through Sassenheim\, past the Teylingen ruins\, and into the welcoming De Tulperij. Enjoy the serene Keukenhofbos and the spectacle of 7 million bulbs being planted at Keukenhof gardens before finishing at Het Vierkant. Lisse celebrates its 825th anniversary with 825 meters of activities\, including balloon trees and live music at Funky Moose and Het Vierkant. \nDay 3: Katwijk – Coastal Views\nOn Saturday\, the walk starts in Katwijk\, right behind the boulevard with stunning sea views. Explore the historical Rijnsburg\, pass the ancient Roman site of Praetorium Agrippinae\, and visit Katwijk aan den Rijn. Enjoy the coastal breeze and picturesque surroundings. Katwijk’s centrummanager has organized activities in the Princestraat and Voorstraat\, with a chill spot at Andreasplein. \nDay 4: Noordwijk – Grand Finale\nThe final day begins on the Noordwijk boulevard\, with the festive Via Dahlia marking the last kilometer. Walk through Noordwijkerhout\, known for its lively carnival associations\, and into the beautiful Hollands Duin. Celebrate your achievement at the iconic lighthouse finish line. Noordwijk will feature various activities along Kerkstraat and the main boulevard\, enhancing the celebratory atmosphere. \nDuin en Bollen Vierdaagse 2024 – Additional Festivities\nThroughout the event\, various towns will host additional festivities. Voorhout plans to become the “coziest village” of the event\, while Noordwijkerhout will repeat its successful red carpet and live entertainment from 2022. Warmond will feature a DJ and treats along the route for the longest distances. \nChoose Your Distance\nParticipants can select from five different distances: 5 km\, 10 km\, 15 km\, 20 km\, and 30 km per day. Whether you choose to walk for one day or all four\, there’s a route that fits your pace and preference. Registration costs vary from €4 to €65\, depending on the distance and number of days. \nEnjoy the Local Hospitality\nAfter a rewarding day of walking\, relax and unwind in one of the region’s cozy restaurants or wellness centers. Enjoy local cuisine\, pamper yourself with a spa visit\, or simply take in the beautiful autumn scenery. \nDuin en Bollen Vierdaagse 2024 Event Details:\n\nDate: October 10-13\, 2024\nTime: Various start and end times (details on the official website)\nLocation: Starting points in Hillegom\, Lisse\, Katwijk\, and Noordwijk\nCost: €4 – €65 depending on the chosen route and duration\n\nFor more information and to register\, visit the official Orginazor’s page. \nFore more events\, visit our event page!
URL:https://debollenstreek.com/event/duin-en-bollen-vierdaagse-2024/
LOCATION:Starting points in Hillegom\, Lisse\, Katwijk\, and Noordwijk
CATEGORIES:Event,Family-Fun,Tour,Walking
ATTACH;FMTTYPE=image/webp:https://debollenstreek.com/wp-content/uploads/2024/07/DALL·E-2024-07-28-14.27.53-A-scene-for-the-Duin-en-Bollen-Vierdaagse-2024-event-depicting-groups-of-walkers-enjoying-scenic-routes-through-autumnal-landscapes.-The-scene-incl.webp
ORGANIZER;CN="Duin en Bollen Vierdaagse":MAILTO:info@db4daagse.nl
END:VEVENT
BEGIN:VEVENT
DTSTART;TZID=Europe/Amsterdam:20240912T190000
DTEND;TZID=Europe/Amsterdam:20240912T200000
DTSTAMP:20260421T103129
CREATED:20240908T153844Z
LAST-MODIFIED:20250828T145158Z
UID:1320-1726167600-1726171200@debollenstreek.com
SUMMARY:Lichtjestocht Hillegom Najaarsfeesten 2024
DESCRIPTION:As the sun slowly sets and darkness begins to fall\, the streets of Hillegom will come alive with the glow of hundreds of lanterns during the Lichtjestocht Hillegom Najaarsfeesten 2024. This magical event\, taking place on 12 September\, is one of the highlights of the Najaarsfeesten. It invites the youngest members of the community\, along with their families\, to join in a delightful evening parade through the heart of Hillegom. With lanterns in hand and costumes on display\, the event promises to be an enchanting experience for all participants. \n\nEvent Details for Lichtjestocht Hillegom Najaarsfeesten 2024\n\nDate: Thursday\, 12 September 2024\nTime: The parade begins at 7:00 PM\, so participants are encouraged to gather in the Hoftuin earlier.\nLocation: The parade will start and end in the Hoftuin\, and it will travel along key streets in Hillegom.\nRoute: From the Hoftuin\, the parade moves down the Hoofdstraat. It will turn at the old post office\, head through the Prins Bernhardstraat\, and continue through Prinses Marijkestraat and Prins Hendrikstraatbefore returning to the Hoftuin.\n\n\nHighlights of the Lichtjestocht\n1. A Magical Evening\nThe lantern parade is truly a spectacle. As night falls\, the streets will be filled with the glow of beautifully lit lanterns\, creating an enchanting atmosphere for everyone. In addition\, the music of the HHK band will guide the participants through the town\, making it an even more special experience. Not only will the children enjoy it\, but parents and grandparents will also find joy in this shared community event. \n2. Costume Contest\nFurthermore\, children are encouraged to dress in their most creative costumes. Whether you prefer to be a fairy-tale princess\, a brave superhero\, or even a colorful clown\, the parade is the perfect opportunity to show off your creativity. At the end of the parade\, there will be a special prize ceremony for the best costumes. Therefore\, make sure to go all out with your outfit! \n3. Treats for All Participants\nMoreover\, every child who participates in the Lichtjestocht will receive a treat at the end of the event. After completing the parade\, it’s important not to head home too quickly. Stick around for the prize-giving ceremony and enjoy the fun atmosphere until the very end. \n\nTips for Participating in the Lichtjestocht Hillegom Najaarsfeesten 2024\n\nArrive Early: Since the event begins at 7:00 PM\, it’s best to arrive a little earlier to secure a good spot and get ready for the parade. Additionally\, arriving early will allow you to soak in the pre-parade excitement with other families.\nBring Your Lantern: Naturally\, lanterns are the star of the parade. Make sure you bring your own lantern\, whether it’s homemade or store-bought. The lanterns not only light the way but also add to the festive atmosphere.\nStay for the Prizes: After the parade\, be sure to stay for the prize ceremony. Everyone who participates will be rewarded\, and the best costumes will receive special prizes. Therefore\, don’t miss out on the opportunity to celebrate together after the parade.\nDress Warmly: As the parade takes place in the evening\, it’s a good idea to dress warmly. Even though the atmosphere will be warm and lively\, it’s important to stay comfortable throughout the event.\n\n\nConclusion\nIn conclusion\, the Lichtjestocht Hillegom Najaarsfeesten 2024 offers an evening of magic\, fun\, and community bonding. As the youngest members of the community lead the way with their glowing lanterns\, they will create a beautiful sight that will be remembered by all. Don’t miss this special event on 12 September\, and be sure to stay for the treats and prize ceremony at the end of the parade. It’s an experience that promises to be unforgettable for all who attend! \n\nLichtjestocht Hillegom Najaarsfeesten 2024 Details\n\nDate: Thursday\, 12 September 2024\nTime: 7:00 PM\nLocation: Start and end in the Hoftuin\, Hillegom\nRoute: Hoofdstraat\, Prins Bernhardstraat\, Prinses Marijkestraat\, Prins Hendrikstraat\, Van Meerbeekstraat\n\n  \n\nDiscover an unforgettable family adventure at the Hillegom Najaarsfeesten. Discover more exciting events happening today! Be sure to check our Agenda for all event details and timings. For even more ways to explore the region\, dive into our Comprehensive Guide to Bollenstreek. Discover fun Activities and essential Information to make the most of your visit. Stop by Souvenir Shop Holland for unique gifts and best prices.
URL:https://debollenstreek.com/event/lichtjestocht-hillegom-najaarsfeesten-2024/
LOCATION:Hoftuin Hillegom\, Hoofdstraat\, Hillegom\, Netherlands
CATEGORIES:Event,Family-Fun,Festival,Hillegom,Kermis,Kids,Najaarsfeesten 2024,Night,Outdoor,Parades,Tour,Walking
ATTACH;FMTTYPE=image/jpeg:https://debollenstreek.com/wp-content/uploads/2024/09/Lichtjestocht-Hillegom-Najaarsfeesten-2024-deBollenstreek.jpg
ORGANIZER;CN="Najaarsfeesten Hillegom 2024":MAILTO:info@harddraverijvereniginghillegom.nl
END:VEVENT
END:VCALENDAR