BEGIN:VCALENDAR
VERSION:2.0
PRODID:-//de Bollenstreek - ECPv6.15.18//NONSGML v1.0//EN
CALSCALE:GREGORIAN
METHOD:PUBLISH
X-ORIGINAL-URL:https://debollenstreek.com
X-WR-CALDESC:Events for de Bollenstreek
REFRESH-INTERVAL;VALUE=DURATION:PT1H
X-Robots-Tag:noindex
X-PUBLISHED-TTL:PT1H
BEGIN:VTIMEZONE
TZID:Europe/Amsterdam
BEGIN:DAYLIGHT
TZOFFSETFROM:+0100
TZOFFSETTO:+0200
TZNAME:CEST
DTSTART:20230326T010000
END:DAYLIGHT
BEGIN:STANDARD
TZOFFSETFROM:+0200
TZOFFSETTO:+0100
TZNAME:CET
DTSTART:20231029T010000
END:STANDARD
BEGIN:DAYLIGHT
TZOFFSETFROM:+0100
TZOFFSETTO:+0200
TZNAME:CEST
DTSTART:20240331T010000
END:DAYLIGHT
BEGIN:STANDARD
TZOFFSETFROM:+0200
TZOFFSETTO:+0100
TZNAME:CET
DTSTART:20241027T010000
END:STANDARD
BEGIN:DAYLIGHT
TZOFFSETFROM:+0100
TZOFFSETTO:+0200
TZNAME:CEST
DTSTART:20250330T010000
END:DAYLIGHT
BEGIN:STANDARD
TZOFFSETFROM:+0200
TZOFFSETTO:+0100
TZNAME:CET
DTSTART:20251026T010000
END:STANDARD
BEGIN:DAYLIGHT
TZOFFSETFROM:+0100
TZOFFSETTO:+0200
TZNAME:CEST
DTSTART:20260329T010000
END:DAYLIGHT
BEGIN:STANDARD
TZOFFSETFROM:+0200
TZOFFSETTO:+0100
TZNAME:CET
DTSTART:20261025T010000
END:STANDARD
END:VTIMEZONE
BEGIN:VEVENT
DTSTART;TZID=Europe/Amsterdam:20241020T133000
DTEND;TZID=Europe/Amsterdam:20241020T153000
DTSTAMP:20260422T161116
CREATED:20240922T135612Z
LAST-MODIFIED:20241227T234237Z
UID:1576-1729431000-1729438200@debollenstreek.com
SUMMARY:In de Voetsporen van Jan Steen
DESCRIPTION:In de Voetsporen van Jan Steen\, On Sunday\, October 20\, 2024. Immerse yourself in the life and legacy of one of the Dutch Golden Age’s most renowned painters\, Jan Steen.This guided walk takes participants through the historic streets of Warmond\, offering a glimpse into the world of Jan Steen and the places that shaped his art. \nEvent Details\nThe tour begins at 13:30 in Warmond. Over the course of 1.5 hours\, participants will follow a route that covers significant locations connected to the painter’s life. These include his birthplace\, as well as spots featured in his famous works. As you walk\, expert guides will share fascinating stories about Jan Steen’s personal life\, his artistic contributions\, and the vibrant history of Warmond in the 17th century. In de Voetsporen van Jan Steen is all that! \nJan Steen’s Artistic Journey\nBorn in 1626\, Jan Steen is known for his lively\, often humorous paintings that depicted Dutch daily life. Throughout the walk\, participants will not only explore his physical surroundings but also gain deeper insights into the social and cultural environment that influenced his work. Stops along the way will include locations seen in his paintings\, connecting the art to the very streets he once walked. \nHistorical Insights\nThe tour also provides a broader context about Warmond during the Dutch Golden Age. The city was a bustling center of commerce and culture\, playing a key role in the development of Dutch art and science. Participants will discover how the city’s dynamic atmosphere influenced artists like Jan Steen and how he captured the essence of Dutch life during this period. Additionally\, guides will explain how his work\, characterized by its storytelling and detailed observation of human nature\, contributed to the Dutch Golden Age of painting. \nAccessible and Affordable\nAt just €5.00\, this guided walk is an accessible way to dive into both Warmonds\, history and the life of one of its most celebrated figures. It’s perfect for art lovers\, history enthusiasts\, and anyone curious about the Dutch cultural heritage. This walking tour offers a rich experience without requiring a major time commitment\, making it a great option for visitors and locals alike. \nConclusion In de Voetsporen van Jan Steen\nWhether you’re an art enthusiast eager to learn more about Jan Steen or simply enjoy exploring historical cities\, this guided walk provides a unique opportunity to step into the 17th-century world of Warmond. Join this informative tour\, explore significant sites\, and discover the fascinating connections between Jan Steen’s art and the city he called home. \nBe sure to check our Agenda for all event details and timings. For even more ways to explore the region\, dive into our Comprehensive Guide to Bollenstreek. Discover fun Activities and essential Information to make the most of your visit. Don’t forget to stop by Souvenir Shop Holland for unique gifts. For official travel updates\, visit the Dutch Government website.
URL:https://debollenstreek.com/event/in-de-voetsporen-van-jan-steen/
LOCATION:Warmond
CATEGORIES:Art,Event,Exhibition,History,Outdoor,Tour,Warmond
ATTACH;FMTTYPE=image/jpeg:https://debollenstreek.com/wp-content/uploads/2024/09/In-de-Voetsporen-van-Jan-Steen-deBollenstreek.jpg
ORGANIZER;CN="Warmond aan de Kaag":MAILTO:info@warmondaandekaag.nl
END:VEVENT
BEGIN:VEVENT
DTSTART;TZID=Europe/Amsterdam:20241110T133000
DTEND;TZID=Europe/Amsterdam:20241110T150000
DTSTAMP:20260422T161116
CREATED:20240922T135506Z
LAST-MODIFIED:20241227T234236Z
UID:1579-1731245400-1731250800@debollenstreek.com
SUMMARY:Voetsporen van Jan Steen
DESCRIPTION:In de Voetsporen van Jan Steen\, On Sunday\, November 10\, 2024. Immerse yourself in the life and legacy of one of the Dutch Golden Age’s most renowned painters\, Jan Steen.This guided walk takes participants through the historic streets of Warmond\, offering a glimpse into the world of Jan Steen and the places that shaped his art. \nEvent Details\nThe tour begins at 13:30 in Warmond. Over the course of 1.5 hours\, participants will follow a route that covers significant locations connected to the painter’s life. These include his birthplace\, as well as spots featured in his famous works. As you walk\, expert guides will share fascinating stories about Jan Steen’s personal life\, his artistic contributions\, and the vibrant history of Warmond in the 17th century. In de Voetsporen van Jan Steen is all that! \nJan Steen’s Artistic Journey\nBorn in 1626\, Jan Steen is known for his lively\, often humorous paintings that depicted Dutch daily life. Throughout the walk\, participants will not only explore his physical surroundings but also gain deeper insights into the social and cultural environment that influenced his work. Stops along the way will include locations seen in his paintings\, connecting the art to the very streets he once walked. \nHistorical Insights\nThe tour also provides a broader context about Warmond during the Dutch Golden Age. The city was a bustling center of commerce and culture\, playing a key role in the development of Dutch art and science. Participants will discover how the city’s dynamic atmosphere influenced artists like Jan Steen and how he captured the essence of Dutch life during this period. Additionally\, guides will explain how his work\, characterized by its storytelling and detailed observation of human nature\, contributed to the Dutch Golden Age of painting. \nAccessible and Affordable\nAt just €5.00\, this guided walk is an accessible way to dive into both Warmonds\, history and the life of one of its most celebrated figures. It’s perfect for art lovers\, history enthusiasts\, and anyone curious about the Dutch cultural heritage. This walking tour offers a rich experience without requiring a major time commitment\, making it a great option for visitors and locals alike. \nConclusion In de Voetsporen van Jan Steen\nWhether you’re an art enthusiast eager to learn more about Jan Steen or simply enjoy exploring historical cities\, this guided walk provides a unique opportunity to step into the 17th-century world of Warmond. Join this informative tour\, explore significant sites\, and discover the fascinating connections between Jan Steen’s art and the city he called home. \nBe sure to check our Agenda for all event details and timings. For even more ways to explore the region\, dive into our Comprehensive Guide to Bollenstreek. Discover fun Activities and essential Information to make the most of your visit. Don’t forget to stop by Souvenir Shop Holland for unique gifts. For official travel updates\, visit the Dutch Government website.
URL:https://debollenstreek.com/event/voetsporen-van-jan-steen/
LOCATION:Warmond
CATEGORIES:Art,Event,Exhibition,History,Outdoor,Tour
ATTACH;FMTTYPE=image/jpeg:https://debollenstreek.com/wp-content/uploads/2024/09/In-de-Voetsporen-van-Jan-Steen-deBollenstreek-1.jpg
ORGANIZER;CN="Warmond aan de Kaag":MAILTO:info@warmondaandekaag.nl
END:VEVENT
BEGIN:VEVENT
DTSTART;TZID=Europe/Amsterdam:20250412T140000
DTEND;TZID=Europe/Amsterdam:20250412T150000
DTSTAMP:20260422T161116
CREATED:20241208T153007Z
LAST-MODIFIED:20250828T145332Z
UID:2212-1744466400-1744470000@debollenstreek.com
SUMMARY:Children’s Corso Lisse 2025
DESCRIPTION:A Precursor to Blooms: The Children’s Flower Parade\nThe Children’s Corso Lisse 2025\, also known as Kindercorso\, takes place on Saturday\, April 13\, 2025\, in the heart of Lisse. Held a week before the grand Flower Parade Bollenstreek\, this charming event invites children to decorate their bikes\, scooters\, soapboxes\, and more with vibrant flowers. The event offers a delightful preview of the region’s famous floral celebrations. \nStarting at 2:00 PM from the car park on Bondstraat\, the parade winds its way through the town’s picturesque streets. Children\, accompanied by family and friends\, proudly display their creativity with beautifully adorned vehicles. The parade route transforms the town center into a lively and colorful spectacle. \nWhat Makes the Children’s Flower Parade Special?\nAn Explosion of Creativity\nThe parade showcases the imaginative efforts of young participants. From bicycles wrapped in tulips to go-karts bursting with daffodils\, the event celebrates the artistry and enthusiasm of the region’s youngest flower enthusiasts. \nA Community Celebration\nThe parade is not just about the flowers; it’s about the sense of community. Families gather\, locals cheer\, and the town comes alive with excitement. The Dorpshart Lisse organization\, known for supporting local traditions\, ensures this event remains a cherished annual highlight. \nExciting Surprises for Participants\nEvery participant in the parade receives a surprise gift at the end of the route. Additionally\, prizes are awarded for the most creative and beautifully decorated entries\, adding a touch of friendly competition. \nHow to Join the Festivities\n\nArrive Early: The gathering starts at 1:30 PM\, giving families ample time to prepare and soak in the festive atmosphere.\nEnjoy the Decorations: Take a stroll around the car park to admire the creativity before the parade begins.\nSupport the Kids: Cheer on the participants as they ride through the streets\, showcasing their stunning floral designs.\nStay for the Surprise: Don’t miss the end of the route\, where children receive their gifts and prizes.\n\nWhy You Shouldn’t Miss It\nThe Children’s Flower Parade Lisse is more than just a local event; it’s a celebration of the region’s rich floral heritage. Taking place in Lisse\, often referred to as the “flower village\,” the parade is a wonderful way to experience the town’s vibrant culture. This event serves as a beautiful prelude to the 77th Flower Parade Bollenstreek\, scheduled for Saturday\, April 20\, 2025. \nWhether you’re a local or visiting from afar\, the parade offers a heartwarming glimpse into the traditions and creativity of Lisse. It’s a perfect outing for families\, flower enthusiasts\, and anyone looking to enjoy the charm of springtime in the Bollenstreek. \nChildren’s Corso Lisse 2025 Event Summary\nEvent Name: Children’s Corso (Kindercorso) Lisse 2025\nDate: Saturday\, April 13\, 2025\nTime: 14:00 – 15:00 (Gathering from 13:30)\nLocation: Car park on Bondstraat\, Lisse \nCelebrate the beauty of spring and the creativity of Lisse’s youngest residents at the Children’s Flower Parade Lisse. Mark your calendar\, bring your family\, and immerse yourself in a day filled with floral magic and community spirit! \nDon’t miss out on key event updates—check our Agenda for the latest happenings and timings. Want to dive deeper into the Bollenstreek? Our Comprehensive Guide to Bollenstreek is packed with insider tips and must-see spots. Looking for fun things to do? Browse our Activities and helpful Information sections to make the most of your adventure. And before you leave\, be sure to visit Souvenir Shop Holland for unforgettable keepsakes that capture the heart of the region.
URL:https://debollenstreek.com/event/childrens-corso-lisse-2025/
LOCATION:Center of Lisse\, Kanaalstraat\, Lisse\, Netherlands
CATEGORIES:Creativity,Culture,Event,Exhibition,Family-Fun,Festival,Flowers,Kids,Lisse,Parades,Tour
ATTACH;FMTTYPE=image/jpeg:https://debollenstreek.com/wp-content/uploads/2024/12/Childrens-Corso-Lisse-2025-deBollenstreek.jpg
ORGANIZER;CN="Dorpshart Lisse":MAILTO:info@dorpshartlisse.nl
END:VEVENT
END:VCALENDAR