BEGIN:VCALENDAR
VERSION:2.0
PRODID:-//de Bollenstreek - ECPv6.15.18//NONSGML v1.0//EN
CALSCALE:GREGORIAN
METHOD:PUBLISH
X-WR-CALNAME:de Bollenstreek
X-ORIGINAL-URL:https://debollenstreek.com
X-WR-CALDESC:Events for de Bollenstreek
REFRESH-INTERVAL;VALUE=DURATION:PT1H
X-Robots-Tag:noindex
X-PUBLISHED-TTL:PT1H
BEGIN:VTIMEZONE
TZID:Europe/Amsterdam
BEGIN:DAYLIGHT
TZOFFSETFROM:+0100
TZOFFSETTO:+0200
TZNAME:CEST
DTSTART:20230326T010000
END:DAYLIGHT
BEGIN:STANDARD
TZOFFSETFROM:+0200
TZOFFSETTO:+0100
TZNAME:CET
DTSTART:20231029T010000
END:STANDARD
BEGIN:DAYLIGHT
TZOFFSETFROM:+0100
TZOFFSETTO:+0200
TZNAME:CEST
DTSTART:20240331T010000
END:DAYLIGHT
BEGIN:STANDARD
TZOFFSETFROM:+0200
TZOFFSETTO:+0100
TZNAME:CET
DTSTART:20241027T010000
END:STANDARD
BEGIN:DAYLIGHT
TZOFFSETFROM:+0100
TZOFFSETTO:+0200
TZNAME:CEST
DTSTART:20250330T010000
END:DAYLIGHT
BEGIN:STANDARD
TZOFFSETFROM:+0200
TZOFFSETTO:+0100
TZNAME:CET
DTSTART:20251026T010000
END:STANDARD
END:VTIMEZONE
BEGIN:VEVENT
DTSTART;TZID=Europe/Amsterdam:20240913T103000
DTEND;TZID=Europe/Amsterdam:20240913T113000
DTSTAMP:20260423T021130
CREATED:20240909T213646Z
LAST-MODIFIED:20250828T145342Z
UID:1355-1726223400-1726227000@debollenstreek.com
SUMMARY:Clown Docus Hillegom Najaarsfeesten 2024
DESCRIPTION:Are you ready for a morning of endless laughter and joy? On 13 September 2024\, Clown Docus will delight young children at the Hillegom Najaarsfeesten 2024. Held at Sporthal De Vosse\, this show promises interactive fun for children aged 4 and under. Get ready to watch your little ones giggle as they engage with the hilarious antics of Mat Claassen\, the man behind Clown Docus. \n\nEvent Details for Clown Docus Hillegom Najaarsfeesten 2024\n\nDate: Friday\, 13 September 2024\nTime: Be there by 10:30 AM for the start of the show.\nLocation: The event takes place at Sporthal De Vosse\, a welcoming space perfect for children’s performances.\nEntry Cost: The show is free\, so bring the whole family for a morning of laughter.\n\n\nWhat to Expect at the Performance\nClown Docus is not your typical clown. When Mat Claassen first appears\, he doesn’t look like a clown at all—there’s no red nose or funny shoes in sight! The children will be puzzled as he claims a clown is in the room\, yet they don’t see one. Gradually\, the audience will help transform him into Clown Docus\, turning the performance into a highly interactive experience. \nThroughout the show\, Claassen listens to the kids\, taking their suggestions and bringing them into the performance. Their active participation creates a fun and engaging atmosphere\, keeping the little ones laughing from start to finish. \n\nHighlights of the Event\n\nInteractive Experience: The children are not just watching—they’re helping Clown Docus transform and perform. This interactive element draws them into the show and ensures they stay engaged throughout.\nAge-Appropriate Fun: The performance is tailored for kids aged 4 and under. The jokes\, activities\, and pace of the show are perfect for the youngest audience members.\nUnique Performance Style: Mat Claassen’s transformation into Clown Docus is gradual\, and the audience plays a big role in making it happen. The spontaneity of this transformation adds an extra layer of excitement for the kids.\n\n\nTips for Participation\n\nArrive Early: The show begins at 10:30 AM\, but it’s a popular event. Arriving early ensures you get a good seat.\nEncourage Participation: This is a show where children are encouraged to engage\, react\, and participate. Let your little ones know they can laugh and join in the fun!\nPerfect for Families: The event is free\, making it a great morning activity for families with young children. Whether your child loves clowns or is new to live performances\, they’ll have a blast.\n\n\nConclusion\nThe Clown Docus performance is a highlight of the Hillegom Najaarsfeesten 2024 for young children. With its interactive format and age-appropriate humor\, this show offers a fantastic opportunity for your little ones to experience live entertainment in a fun and engaging way. Head over to Sporthal De Vosse on 13 September and let Clown Docus bring laughter and joy to your family’s morning! \n\nClown Docus Hillegom Najaarsfeesten 2024 Details\n\nDate: Friday\, 13 September 2024\nTime: 10:30 AM\nLocation: Sporthal De Vosse\nEntry Cost: Free\n\n  \n\nDiscover an unforgettable family adventure at the Hillegom Najaarsfeesten. Explore Friday the 13th fun with thrilling events\, and enjoy a day full of excitement! Discover more exciting events happening today! Be sure to check our Agenda for all event details and timings. For even more ways to explore the region\, dive into our Comprehensive Guide to Bollenstreek. Discover fun Activities and essential Information to make the most of your visit. Stop by Souvenir Shop Holland for unique gifts and best prices.
URL:https://debollenstreek.com/event/clown-docus-hillegom-najaarsfeesten-2024/
LOCATION:Sporthal De Vosse\, Vosselaan 152\, Hillegom\, 2181 CD\, Netherlands
CATEGORIES:Event,Fair,Family-Fun,Festival,Hillegom,Kids,Najaarsfeesten 2024
ATTACH;FMTTYPE=image/jpeg:https://debollenstreek.com/wp-content/uploads/2024/09/Clown-Docus-Hillegom-Najaarsfeesten-2024-deBollenstreek.jpg
ORGANIZER;CN="Najaarsfeesten Hillegom 2024":MAILTO:info@harddraverijvereniginghillegom.nl
END:VEVENT
END:VCALENDAR